BEGIN:VCALENDAR
VERSION:2.0
PRODID:-//wp-events-plugin.com//7.2.3.1//EN
TZID:Europe/London
X-WR-TIMEZONE:Europe/London
BEGIN:VEVENT
UID:2615@contactdance.co.uk
DTSTART;TZID=Europe/London:20230709T170000
DTEND;TZID=Europe/London:20230709T213000
DTSTAMP:20230707T104032Z
URL:https://contactdance.co.uk/events/contact-improvisation-jam-with-live-
 music-and-food-share/
SUMMARY:Contact Improvisation Jam with live music and food share - 63rd Bri
 stol Scouts Hut - 9 Jul 23 17:00
DESCRIPTION:\n\nEvent organised by Simon Leach.\nI've created this event to
  prepare myself for playing music at the London Mini CI Fest later this mo
 nth. I would be delighted if as many Bristol dancers as possible would com
 e and help me by jamming to my sounds!\nThe plan is for doors to open at 5
  for personal warmups. At 5:30 I will lead a short group warmup encouragin
 g people to connect first deeply to themselves and then to begin to connec
 t with each other. I will encourage us to work as an ensemble\, building a
 wareness of the beauty of the spontaneous choreographies that we create to
 gether. We will then jam until 7:30.`\nAfter space for verbal reflections 
 we will eat. Please bring scrumptious food to share! We will have the spac
 e until 9:30\, so there will be plenty of time to eat\, chat and then clea
 r up.\nI'll be accepting donations to help pay for the room hire. If there
  are 20 people there then £4.50 each would cover it.\nLooking forward to 
 jamming with you \nAny queries\, email me at simonleach1@talktalk.net
ATTACH;FMTTYPE=image/jpeg:https://contactdance.co.uk/wp-content/uploads/20
 22/02/jam-jar-ingredients-blue.jpg
CATEGORIES:CI Jam
LOCATION:63rd Bristol Scouts Hut\, St Bartholomews Road\, St Andrews\, Bris
 tol\, BS7 9BJ\, United Kingdom
X-APPLE-STRUCTURED-LOCATION;VALUE=URI;X-ADDRESS=St Bartholomews Road\, St A
 ndrews\, Bristol\, BS7 9BJ\, United Kingdom;X-APPLE-RADIUS=100;X-TITLE=63r
 d Bristol Scouts Hut:geo:0,0
END:VEVENT
BEGIN:VTIMEZONE
TZID:Europe/London
X-LIC-LOCATION:Europe/London
BEGIN:DAYLIGHT
DTSTART:20230326T020000
TZOFFSETFROM:+0000
TZOFFSETTO:+0100
TZNAME:BST
END:DAYLIGHT
END:VTIMEZONE
END:VCALENDAR