BEGIN:VCALENDAR
VERSION:2.0
PRODID:-//wp-events-plugin.com//7.2.3.1//EN
TZID:Europe/London
X-WR-TIMEZONE:Europe/London
BEGIN:VEVENT
UID:2667@contactdance.co.uk
DTSTART;TZID=Europe/London:20231208T100000
DTEND;TZID=Europe/London:20231210T210000
DTSTAMP:20231010T104406Z
URL:https://contactdance.co.uk/events/contact-improvisation-winter-warmer-
 with-hugh-and-zoe/
SUMMARY:Contact Improvisation Winter Warmer with Hugh and Zoë - BlackBird/
 RedRose Studios - 8 Dec 23 10:00
DESCRIPTION:&nbsp\;\n\n&nbsp\;\n\n\n\nThis is our 3rd yearly Winter CI Gath
 ering with Zoë and Hugh in Frome : )\n\nContact Improvisation (Saturday/S
 unday):\n\nThese workshops will be a deep dive into contact improvisation 
 fundamentals: connection\, weight-sharing/bearing\, listening\, flow\, pla
 y\, presence.\n\nWe will have workshops by day and jams in the evening.\n\
 n&nbsp\;\n\nAxis Syllabus (Friday only):\n\nThe Axis Syllabus is an educat
 ional perspective and reference system for human movement that is assemble
 d\, revised and tested by a growing international network of dancing resea
 rchers and was initiated in the mid 90’s by the american dancer\, teache
 r\, author and choreographer Frey Faust.\n\nThe knowledge and methods draw
  from several fields of research including biomechanics\, anatomy\, physic
 s\, western medical sciences\, physiology\, anthropology and an expansive 
 collection of empirical knowledge.\n\nFriday evening we have a separate Ec
 static Dance event at Mycelium Space nearby in Frome.\n\n&nbsp\;\n\nDetail
 s:\n\nBring your own lunch and optional Dinners from Burrito Boy and Lungi
  Babas (beloved local Frome takeouts).\nPlenty of tea and a Christmas tree
 .\n\nOpen to beginners and ultimate experts of CI and all in-between.\n\nL
 ive musicians for the jams TBA soon…\n\nSaturday and Sunday will be Cont
 act Improvisation with Zoë and Hugh teaching.\nFriday will be an Axis Syl
 labus workshop with Zoë.\n\nIf finance is a barrier to attending\, please
  get in touch.\n\nBuy tickets here\n\nFull Weekend inc Friday Axis Syllabu
 s (early bird until 5/11) £135\n\nFull Weekend inc Friday Axis Syllabus 
 £160\n\nSaturday Sunday (early bird until 5/11) £105\n\nSaturday Sunday 
 £120\n\nFriday Axis Syllabus (early bird until 5/11) £45\n\nFriday Axis 
 Syllabus £50\n\nSaturday + Evening Jam £65\n\nSunday + Evening Jam £65\
 n\nSaturday Evening Jam £10\n\nSunday Evening Jam £10\n\nLocation:\n\nBl
 ackBird/RedRose Studios\,\nUnit G\, Vallis Mills Trading Estate\, BlackBir
 d/RedRose Studios\,\nRobins Ln\, Frome\nBA11 3DT\n\n&nbsp\;\n\nSchedule ea
 ch day:\n\nDoors open: 9:45am\n\nMorning Session: 10:30am-1pm\n\nLunch: 1-
 2:15pm (bring your own)\n\nAfternoon session: 2:15-5pm\n\nBreak: 5-6pm\n\n
 Open Evening Jam (Sat Sun only): 6-8pm\n\nDinner (Sat Sun only): 8-9pm (Br
 ing your own or collective order to local Frome eatery)\n\nSome sessions m
 ay finish earlier or later depending on the flow of the day.\n\n&nbsp\;\n\
 nLinks:\n\nAdmin announcements only WhatsApp group for the event: https://
 chat.whatsapp.com/CSH58uoD9mZAiHpH69UpeF\n\nGeneral public WhatsApp for th
 e event to organise lift shares\, accommodation and general community chat
 : https://chat.whatsapp.com/CI20TNWrejSHUqbtIa4xS9\n\nIf you can offer a b
 ed or floor space for out-of-towners for a £ contribution it would be ver
 y helpful! Please join the general WhatsApp to offer space.\n\n&nbsp\;\n\n
 Queries: fromecontact(at)gmail.com\n\nfridaynightdance.co.uk\n\nFacebook l
 ink for event: coming soon\n\n&nbsp\;\n\nTicket exchanges/refunds\n\nExcha
 nges/Refunds: To exchange tickets please email fromecontact(at)gmail.com a
 nd let us know the name changeover. There is a £5 admin fee for this.If y
 ou need to find someone to sell a ticket to or buy from\, please join the 
 community WhatsApp group above.\n\nRefunds can be issued for a £10 admin 
 fee. If the event sells out then refunds will only be given out up until 3
  weeks before the the event. After this time you are welcome to find someo
 ne else to buy your ticket and let us know the name change for a £5 admin
  fee. Please join the community WhatsApp above if you are looking to find 
 someone exchange a ticket with.\n\nEarly bird tickets available until 5th 
 November.\n\nIf finance is a barrier to attending\, please get in touch.\n
 \nBiographies:\n\nZoë Solomons\n\nZoë is a dancer/mother/teacher/Osteopa
 th and activist. Zoë has been been practicing and performing improvisatio
 n since 2000 and considers it a life practice as well as a professional sk
 ill. She has performed for Felix Ruckert\, Tino Seghal and Simonetta Aless
 andri among others. Zoë qualified to teach Axis Syllabus universal motion
  principles in 2008 and has since taught at major dance centres and school
 s in the U.K. and internationally. Her eclectic training in medicine and b
 odywork\, and a dance background including improvisation\, tango\, folkdan
 ce and contemporary inform her embodied approach to functional movement pe
 dagogy.\n\nHugh Stanier\n\nHugh is a movement artist specialising in Impro
 visation &amp\; Contact Improvisation. He has over 15 years of teaching &a
 mp\; performance experience. He began dancing when he was 15\, training in
  Break dance and Contemporary. He went on to train at Northern School of C
 ontemporary Dance\, graduating in 2008. Since then he has worked with comp
 anies such as 2Faced Dance\, Tom Dale\, STAN Won’t Dance\, and Ultima Ve
 z.\nHe has taught intensives internationally at the Goa Contact Festival(2
 015-17)\, Berlin contact festival\, Soma Arts festival (Munich)\, Portugal
  Contact Gathering and the Goa Dance residency 2019 &amp\; 2020. He has co
 llaborated with Danceworx Delhi on an international dance film\, and is al
 so creating his own work with a focus on collaborative improvisation with 
 Musicians.\nCurrently his main focus is organising &amp\; facilitating his
  own events and workshops.\nHe is also a qualified TMW (Tai Chi Movements 
 for Wellbeing) facilitator. The principles of Tai Chi and Qi Kung underpin
  his approach to teaching and sharing movement.\n\n&nbsp\;\n\n&nbsp\;
ATTACH;FMTTYPE=image/jpeg:https://contactdance.co.uk/wp-content/uploads/20
 23/10/warmer.jpg
CATEGORIES:CI Workshop
LOCATION:BlackBird/RedRose Studios\, BlackBird/RedRose Studios\, Unit G\, V
 allis Mills Trading Estate\, Robins Ln\, Frome\, BA11 3DT\, United Kingdom
X-APPLE-STRUCTURED-LOCATION;VALUE=URI;X-ADDRESS=BlackBird/RedRose Studios\,
  Unit G\, Vallis Mills Trading Estate\, Robins Ln\, Frome\, BA11 3DT\, Uni
 ted Kingdom;X-APPLE-RADIUS=100;X-TITLE=BlackBird/RedRose Studios:geo:0,0
END:VEVENT
BEGIN:VTIMEZONE
TZID:Europe/London
X-LIC-LOCATION:Europe/London
BEGIN:STANDARD
DTSTART:20231029T010000
TZOFFSETFROM:+0100
TZOFFSETTO:+0000
TZNAME:GMT
END:STANDARD
END:VTIMEZONE
END:VCALENDAR