BEGIN:VCALENDAR
VERSION:2.0
PRODID:-//wp-events-plugin.com//7.2.3.1//EN
TZID:Europe/London
X-WR-TIMEZONE:Europe/London
BEGIN:VEVENT
UID:2025@contactdance.co.uk
DTSTART;TZID=Europe/London;VALUE=DATE:20161112
DTEND;TZID=Europe/London;VALUE=DATE:20161114
DTSTAMP:20160914T200135Z
URL:https://contactdance.co.uk/events/contact-improvisation-workshop-with-
 nita-little-the-informed-bodymind/
SUMMARY:Contact Improvisation Workshop with Nita Little: The informed bodym
 ind - The Trinity Centre - 12 Nov 16 10:00
DESCRIPTION:We are excited to be welcoming Nita Little to Bristol. An oppor
 tunity not to miss.\n\nPlease note that bookings are essential.\n\n\n\nThe
  informed Bodymind: Beyond dance/The invisible CI skills\nThis dance form 
 invites us to have a self-sense that extends spatially to include our part
 ners and our environment. Its skills ask for physical/mental states beyond
  our normative modes and modalities. And\, it stretches our understanding 
 of physicality and perception. The aim of this class is to increase our ab
 ility to act responsively through developing new physical and perceptual s
 kills that enhance our peripheral intelligence. By discovering new forms o
 f awareness we will learn to dance safely in a state that gives us an abil
 ity to read each ecological moment spatially and energetically. With the d
 ance as our teacher\, we will come to able to trust ourselves to meet each
  moment successfully whether we are falling or flying.\n\nWhen: 12th and 1
 3th November\nSaturday 12th from 10am to 5:30pm\nSunday 13th from 9:30am t
 o 2:30pm\n\nWhere:\nTrinity Centre\nTrinity Road\nBristol\nBS2 0NW\n\nFor 
 bookings:\nClick here - Booking Essential\n\n\n\nBio\nA pioneering choreog
 rapher\, performer\, and theorist in the field of ensemble improvisational
  dance and Contact Improvisation\, Nita Little is invited to work with dan
 cers on five continents. A (2014) PhD in Performance Studies from the Univ
 ersity of California\, Davis\, Little participated in the emergence and de
 velopment of Contact Improvisation in 1972 with Steve Paxton and Nancy Sta
 rk Smith. She has been exploring the embodied mind in the physics of motio
 n\, relational and creative action\, and the performance of presence ever 
 since. As a dance researcher she develops Research Laboratories devoted to
  the study of relational potentials through ensemble dance explorations in
  which the tactility of attention is an essential investigation.\n\nNita w
 orks with dancers and performers in numerous mediums and including stage\,
  site-specific investigations and film. She tours on a regular basis makin
 g work\, performing\, and teaching technical and creative skills for compa
 nies\, festivals and schools worldwide. Nita is a physical philosopher who
  has developed a movement pedagogy oriented around creative actions of the
  bodymind in dance. In 2016/17 you will find her choreographing and teachi
 ng in NYC\, Europe\, and South America.\n\n
CATEGORIES:CI Workshop
LOCATION:The Trinity Centre\, Trinity Road\, Bristol\, BS2 0NW\, United Kin
 gdom
GEO:51.4584901;-2.57659979999994
X-APPLE-STRUCTURED-LOCATION;VALUE=URI;X-ADDRESS=Trinity Road\, Bristol\, BS
 2 0NW\, United Kingdom;X-APPLE-RADIUS=100;X-TITLE=The Trinity Centre:geo:5
 1.4584901,-2.57659979999994
END:VEVENT
BEGIN:VTIMEZONE
TZID:Europe/London
X-LIC-LOCATION:Europe/London
BEGIN:STANDARD
DTSTART:20161030T010000
TZOFFSETFROM:+0100
TZOFFSETTO:+0000
TZNAME:GMT
END:STANDARD
END:VTIMEZONE
END:VCALENDAR