BEGIN:VCALENDAR
VERSION:2.0
PRODID:-//wp-events-plugin.com//7.2.3.1//EN
TZID:Europe/London
X-WR-TIMEZONE:Europe/London
BEGIN:VEVENT
UID:2444@contactdance.co.uk
DTSTART;TZID=Europe/London:20191006T133000
DTEND;TZID=Europe/London:20191006T153000
DTSTAMP:20190924T120303Z
URL:https://contactdance.co.uk/events/contakids-bristol-session/
SUMMARY:ContaKids Bristol session - Horfield URC Hall - 6 Oct 19 13:30
DESCRIPTION:&nbsp\;\n\n\n\nA new opportunity for the dancing folk with chil
 dren! It’s Bristol’s very first stand-alone formal ContaKids session r
 un by an experienced local ContaKids teacher. There will be plenty more ex
 perience in the room to hold space for a wonderful moving adventure for yo
 ur little family.\n\nFor event details go to the Facebook Event page: Con
 taKids session Bristol or get in touch with Agnieszka on agrenckowska@gm
 ail.com
CATEGORIES:CI Class
LOCATION:Horfield URC Hall\, 139 Muller Road\, Bristol\, BS7 9RB\, United K
 ingdom
X-APPLE-STRUCTURED-LOCATION;VALUE=URI;X-ADDRESS=139 Muller Road\, Bristol\,
  BS7 9RB\, United Kingdom;X-APPLE-RADIUS=100;X-TITLE=Horfield URC Hall:geo
 :0,0
END:VEVENT
BEGIN:VTIMEZONE
TZID:Europe/London
X-LIC-LOCATION:Europe/London
BEGIN:DAYLIGHT
DTSTART:20190331T020000
TZOFFSETFROM:+0000
TZOFFSETTO:+0100
TZNAME:BST
END:DAYLIGHT
END:VTIMEZONE
END:VCALENDAR