BEGIN:VCALENDAR
VERSION:2.0
PRODID:-//wp-events-plugin.com//7.2.3.1//EN
TZID:Europe/London
X-WR-TIMEZONE:Europe/London
BEGIN:VEVENT
UID:2462@contactdance.co.uk
DTSTART;TZID=Europe/London:20200315T133000
DTEND;TZID=Europe/London:20200315T150000
DTSTAMP:20200310T151605Z
URL:https://contactdance.co.uk/events/contakids-class-and-jam/
SUMMARY:Contakids Class and Jam - The Exercise Club - 15 Mar 20 13:30
DESCRIPTION:\n\n\n\nA 90 minutes session of ContaKids including a class wit
 h facilitated games and scores followed by playful open jam with each othe
 r and some original props.\n\nContaKids is physical movement class inspire
 d by Contact Improvisation Dance form. By working with the body\, movement
  and physical contact\, parents and children develop a new\, physical form
  of communication\, which is enjoyable for both.\n\nTickets and further de
 tails available at this link.\n\n\n
CATEGORIES:CI Class,CI Jam,CI Workshop
LOCATION:The Exercise Club\, 213 Whiteladies Road\, Bristol\, BS8 2XS\, Uni
 ted Kingdom
GEO:51.4700637;-2.6144398000000137
X-APPLE-STRUCTURED-LOCATION;VALUE=URI;X-ADDRESS=213 Whiteladies Road\, Bris
 tol\, BS8 2XS\, United Kingdom;X-APPLE-RADIUS=100;X-TITLE=The Exercise Clu
 b:geo:51.4700637,-2.6144398000000137
END:VEVENT
BEGIN:VTIMEZONE
TZID:Europe/London
X-LIC-LOCATION:Europe/London
BEGIN:STANDARD
DTSTART:20191027T010000
TZOFFSETFROM:+0100
TZOFFSETTO:+0000
TZNAME:GMT
END:STANDARD
END:VTIMEZONE
END:VCALENDAR