BEGIN:VCALENDAR
VERSION:2.0
PRODID:-//wp-events-plugin.com//7.2.3.1//EN
TZID:Europe/London
X-WR-TIMEZONE:Europe/London
BEGIN:VEVENT
UID:2632@contactdance.co.uk
DTSTART;TZID=Europe/London:20230917T091500
DTEND;TZID=Europe/London:20230917T170000
DTSTAMP:20230824T202821Z
URL:https://contactdance.co.uk/events/core-elements-for-jamming-sun-17-sep
 t-contact-improvisation-day-workshop/
SUMMARY:Core Elements for Jamming: Sun 17 Sept: Contact Improvisation day w
 orkshop - St. Michael's Parish Hall - 17 Sep 23 09:15
DESCRIPTION:\n\n\nWith Jan-Ming Lee &amp\; Claire Coveney\nHoning our atten
 tion and relational skills\, playful exploring of physicality\, co-ordinat
 ion\, and structural integrity of our body\nTickets:\nEarly bird £45 befo
 re 11 Aug\nAfter 11 Aug: £60 / £50\nIf you want to apply for a further c
 oncession please email for details.\nTo book: https://hdfst.uk/e93416\nor 
 email claireat@bristol.co.uk\n~\nAbout the teachers:\nJan-Ming has been da
 ncing and holding spaces for contact improvisation for over 15 years and i
 s passionate about the exquisitely powerful and completely ordinary practi
 ce that it can be to collectively bring us into a dancing conversation tog
 ether\, respecting our differences through curiosity\, courage and care. S
 he has a background in performance in dance\, music\, physical theatre\, v
 oicework and is also a practicing somatic bodyworker in The Pantarei Appro
 ach.\nwww.janlee.org\n\nClaire Coveney and Jan-Ming Lee have been dancing-
 tumbling-uplifting-flipping-jamming together and finding what are the thin
 gs that keep us curious and playful in our dances\, while rooting in our i
 ntegrity...we have been collecting our rituals of how to be in all the gap
 s inside of a contact jam\, especially inspired by our practices of the Un
 derscore and our training in somatic practices such as Alexander Technique
 \, bodywork\, qigong and fascia-movement study.\nMore details coming very 
 soon!\n\n
ATTACH;FMTTYPE=image/jpeg:https://contactdance.co.uk/wp-content/uploads/20
 23/07/jan-ming-jamming.jpg
CATEGORIES:CI Workshop
LOCATION:St. Michael's Parish Hall\, Park Ln\, Bristol BS2 8BE\, Bristol\, 
 BS2 8BE\, United Kingdom
GEO:51.457;-2.59932
X-APPLE-STRUCTURED-LOCATION;VALUE=URI;X-ADDRESS=Park Ln\, Bristol BS2 8BE\,
  Bristol\, BS2 8BE\, United Kingdom;X-APPLE-RADIUS=100;X-TITLE=St. Michael
 's Parish Hall:geo:51.457,-2.59932
END:VEVENT
BEGIN:VTIMEZONE
TZID:Europe/London
X-LIC-LOCATION:Europe/London
BEGIN:DAYLIGHT
DTSTART:20230326T020000
TZOFFSETFROM:+0000
TZOFFSETTO:+0100
TZNAME:BST
END:DAYLIGHT
END:VTIMEZONE
END:VCALENDAR