BEGIN:VCALENDAR
VERSION:2.0
PRODID:-//wp-events-plugin.com//7.2.3.1//EN
TZID:Europe/London
X-WR-TIMEZONE:Europe/London
BEGIN:VEVENT
UID:2480@contactdance.co.uk
DTSTART;TZID=Europe/London:20220412T200000
DTEND;TZID=Europe/London:20220412T213000
DTSTAMP:20220308T082340Z
URL:https://contactdance.co.uk/events/dance-improvisation-training-29-mar-
 12-april/
SUMMARY:Dance Improvisation Training: 29 Mar + 12 April - The Willow Studio
  - 12 Apr 22 20:00
DESCRIPTION:\n\nUPDATE: instead of a closed 4-week series\, I am now offeri
 ng two open drop-in classes on Tues 29 March and Tues 12 April: 8-9.30pm.\
 nThese two classes aim to hone our dance improvisation skills as solo and 
 ensemble\, witnessing each other\; through different ways in –\nThese in
 clude spatial tuning of ourselves and each other\, imagination and impulse
 \, body memory\, musicality and rhythm\, voice improvisation in relation t
 o movement\, energetic and tactile awareness with surfaces\, atmospheres a
 nd other humans.\nYou are welcome to book for just one class\, or even bet
 ter\, for both classes! I do recommend joining both classes as it can help
  weave your daily living into our studio explorations\, drop any juicy ins
 ights back into the space\, potentially creating more connection between u
 s dancers.\nLevel: all welcome – everyone who wants to enquire and atten
 d to their body-based skills through space\, and a curiosity to witness ea
 ch other and be witnessed\nCost per drop-in class:\n£12 (£10 concession)
 \nOffer:\n£18 for both classes booked together\nLocation: Willow Studio\,
  St Werburgh’s Primary School\, James Street St Werburgh’s\, Bristol\,
  BS2 9US\nBOOKING ESSENTIAL – please send a payment via paypal to jan.l
 ee.uk@gmail.com (select Trusted/Friends &amp\; Family option) and send an 
 email to let me know you've done that! (Alternatively\, you can use bank t
 ransfer - email to ask for details!)\nIf you have any questions at all or 
 any requests or needs\, please feel free to email and I will do my best to
  meet them.\nThe studio is accessible on the ground floor and there is an 
 accessible toilet next to the studio. I aim to create a class where explor
 ations and exercises are adaptable to each individual's pace\, energy\, ch
 oices of movement and encourage a culture of care and empathy for each dan
 cers' individual health and limits. Please get in touch to let me know if 
 there is anything specific you need in the space to help you feel free and
  resourced.\nAbout the teacher Jan-Ming Lee:\nJan-Ming is an artist with a
  background in dance\, music\, theatre\, somatic bodywork\, sociology. She
  has been collaborating in performing arts projects since 2005\, in places
  including China\, UK\, Europe\, Brazil.\nShe has trained with teachers in
 cluding instant composition with Julyen Hamilton\, poetry improvisation wi
 th Billie Hanne\, Action Theater (physical theatre with voice/movement) wi
 th Kate Hilder/Sten Rudstrom\, Axis Syllabus (fascia / functional movement
 ) @ Nomadic College\, Wolfsohn-Hart 'human voice' with Margaret Pikes\, an
 d dancing Contact Improvisation for over 15 years.\nHer performance work w
 hich includes immersive theatre\, participatory installations\, dance thea
 tre and interactive sound performance has been shown at venues including T
 ate Modern and Victoria &amp\; Albert Museum.\nMore: http://www.janlee.or
 g\n
ATTACH;FMTTYPE=image/jpeg:https://contactdance.co.uk/wp-content/uploads/20
 22/03/janclass2.jpg
CATEGORIES:Other Class
LOCATION:The Willow Studio\, St. Werburghs Primary School\, James Street\, 
 Bristol\, BS2 9US\, United Kingdom
GEO:51.4704;-2.57417
X-APPLE-STRUCTURED-LOCATION;VALUE=URI;X-ADDRESS=St. Werburghs Primary Schoo
 l\, James Street\, Bristol\, BS2 9US\, United Kingdom;X-APPLE-RADIUS=100;X
 -TITLE=The Willow Studio:geo:51.4704,-2.57417
END:VEVENT
BEGIN:VTIMEZONE
TZID:Europe/London
X-LIC-LOCATION:Europe/London
BEGIN:DAYLIGHT
DTSTART:20220327T020000
TZOFFSETFROM:+0000
TZOFFSETTO:+0100
TZNAME:BST
END:DAYLIGHT
END:VTIMEZONE
END:VCALENDAR