BEGIN:VCALENDAR
VERSION:2.0
PRODID:-//wp-events-plugin.com//7.2.3.1//EN
TZID:Europe/London
X-WR-TIMEZONE:Europe/London
BEGIN:VEVENT
UID:2604@contactdance.co.uk
DTSTART;TZID=Europe/London:20231007T100000
DTEND;TZID=Europe/London:20231008T170000
DTSTAMP:20230411T090519Z
URL:https://contactdance.co.uk/events/dancing-through-the-layers/
SUMMARY:Dancing Through The Layers - St. Michael's Parish Hall - 7 Oct 23 1
 0:00
DESCRIPTION:\n\nTickets https://www.tickettailor.com/events/richardparkerci
 /882780
ATTACH;FMTTYPE=image/jpeg:https://contactdance.co.uk/wp-content/uploads/20
 23/04/layers.jpeg
CATEGORIES:CI Workshop
LOCATION:St. Michael's Parish Hall\, Park Ln\, Bristol BS2 8BE\, Bristol\, 
 BS2 8BE\, United Kingdom
GEO:51.457;-2.59932
X-APPLE-STRUCTURED-LOCATION;VALUE=URI;X-ADDRESS=Park Ln\, Bristol BS2 8BE\,
  Bristol\, BS2 8BE\, United Kingdom;X-APPLE-RADIUS=100;X-TITLE=St. Michael
 's Parish Hall:geo:51.457,-2.59932
END:VEVENT
BEGIN:VTIMEZONE
TZID:Europe/London
X-LIC-LOCATION:Europe/London
BEGIN:DAYLIGHT
DTSTART:20230326T020000
TZOFFSETFROM:+0000
TZOFFSETTO:+0100
TZNAME:BST
END:DAYLIGHT
END:VTIMEZONE
END:VCALENDAR