BEGIN:VCALENDAR
VERSION:2.0
PRODID:-//wp-events-plugin.com//7.2.3.1//EN
TZID:Europe/London
X-WR-TIMEZONE:Europe/London
BEGIN:VEVENT
UID:2514@contactdance.co.uk
DTSTART;TZID=Europe/London:20221106T093000
DTEND;TZID=Europe/London:20221106T163000
DTSTAMP:20221013T204332Z
URL:https://contactdance.co.uk/events/day-workshop/
SUMMARY:Learning to fly\,  when you don’t know how or why - St. Michael's
  Parish Hall - 6 Nov 22 09:30
DESCRIPTION:\nA day of Contact Improvisation with Zoe Solomons and Jocasta 
 Crofts. \nSunday 6th November 2022\nWe would like to offer you some new pa
 thways through the body\, to discover\, explore and play with. This will o
 ffer new movement patterns in our dances together. We will be working with
  the upper and lower body centres\, linking them together in an embodied k
 nowing and being of the body dancing\; opening into creative play and expl
 oration\, that may surprisingly take you up.\nAll levels welcome\n&nbsp\;\
 n\nWhat to bring: Comfy clothes\, change of t-shirt\, plenty of liquids. \
 n\nTea and Coffee will be provided.\n\nLunch will be a ‘bring and share
 ’ affair.\n\n&nbsp\;\nDate: Sunday 6th November 2022\nTimes: doors open 
 9.30\, starting time 10am – 4.30pm\nVenue: St Michael's Parish Hall BS2 
 8BE https://goo.gl/maps/jDJkDhP6TdDvHeHL8\nParking is free\n&nbsp\;\nPrice
 : £50/ £42 Concs \nBooking: Ms Jocasta Crofts\, 19956609\, 070806.\nCanc
 ellation fee is £20\, until 2 weeks before the event. After that tickets 
 are non-refundable. Tickets may be transferred to a friend\, please email 
 Jocasta to let her know.\n\nIf you have any questions\, please email Jocas
 ta \nt: 07875151582\ne: deva-shanti@hotmail.com\n&nbsp\;\n\nBios:\n\n\nZo
 ë is a dancer/mother/teacher/Osteopath and activist. Zoë has been been p
 racticing and performing improvisation since 2000 and considers it a life 
 practice as well as a professional skill. She has performed for Felix Ruck
 ert\, Tino Seghal and Simonetta Alessandri among others. Zoë qualified t
 o teach Axis Syllabus universal motion principles in 2008\, when teaching 
 she combines this knowledge with anatomical understanding from her work as
  an osteopath with dancers and athletes. She has taught at major dance cen
 tres and schools and festivals in the U.K. and internationally. Her eclect
 ic training in medicine\, bodywork and nature based practices and a dance 
 background including improvisation\, tango\, folkdance and contemporary i
 nform her embodied approach to functional movement pedagogy.\n&nbsp\;\n\n\
 n\nJocasta has been dancing and teaching for 25 years. She spent 3 years i
 n the Somatic Dancers Education in Dance Improvisation at Outokupmu\, Finl
 and. She is a Somatic Movement Educator (SME) and Infant Movement Educator
  (IDME) through the School of Body Mind Centering. She performed with circ
 us and dance improvisation for 10 years. Jocasta is a body worker and heal
 er\, teaches kids yoga\, baby massage and is a tantra teacher. Currently\,
  she is studying Fine Art at Bath Spa University. \n\nJocasta is a Creativ
 e. She loves mediation in movement\, sound\, silence and stillness. Her pa
 ssion is being an embodied being\, expressing ourselves naturally as a hum
 an animal in all our intuitive\, reflexive intelligence is what she wishes
  to bring to the dance. She is playful\, spontaneous and has a daft sidewa
 ys wisdom.\n
ATTACH;FMTTYPE=image/jpeg:https://contactdance.co.uk/wp-content/uploads/20
 11/04/jocasta.jpg
CATEGORIES:CI Workshop
LOCATION:St. Michael's Parish Hall\, Park Ln\, Bristol BS2 8BE\, Bristol\, 
 BS2 8BE\, United Kingdom
GEO:51.457;-2.59932
X-APPLE-STRUCTURED-LOCATION;VALUE=URI;X-ADDRESS=Park Ln\, Bristol BS2 8BE\,
  Bristol\, BS2 8BE\, United Kingdom;X-APPLE-RADIUS=100;X-TITLE=St. Michael
 's Parish Hall:geo:51.457,-2.59932
END:VEVENT
BEGIN:VTIMEZONE
TZID:Europe/London
X-LIC-LOCATION:Europe/London
BEGIN:STANDARD
DTSTART:20221030T010000
TZOFFSETFROM:+0100
TZOFFSETTO:+0000
TZNAME:GMT
END:STANDARD
END:VTIMEZONE
END:VCALENDAR