BEGIN:VCALENDAR
VERSION:2.0
PRODID:-//wp-events-plugin.com//7.2.3.1//EN
TZID:Europe/London
X-WR-TIMEZONE:Europe/London
BEGIN:VEVENT
UID:2762@contactdance.co.uk
DTSTART;TZID=Europe/London:20240914T103000
DTEND;TZID=Europe/London:20240914T173000
DTSTAMP:20240716T122552Z
URL:https://contactdance.co.uk/events/ecstatic-contact-connection-dance-2/
SUMMARY:ECSTATIC contact-connection DANCE - St. Michael's Parish Hall - 14 
 Sep 24 10:30
DESCRIPTION:\n\nEarly Birds: 12 tickets\, saving 15% available until they'r
 e gone. TicketTailor.com/events/asherlevinevents/1265614\n\nPixi Pete &am
 p\; Asher Levin Present a day of...\nEcstatic contact-connection Dance!\n\
 nAre you into Ecstatic Dance\, Contact Improvisation or both?\nFollowing t
 heir sell-out debut in March 2024\, Asher &amp\; Pete are delighted to pre
 sent the latest incarnation of E c-c D. Born from a shared love of both pr
 actices and a desire to grow these practices together in the community.\nI
 t's an opportunity to explore new ways to connect on the dance floor - to 
 develop skills\, discernment and experience-based courage connecting with 
 self and others in both Contact Improv &amp\; Ecstatic Dance practices.\nA
  chance to relate your movement to music in a refreshing new way.\n\nThe C
 ontact Improv for Ecstatic Dance workshop with Asher\, will be followed by
  a Contact Improv-friendly\, music-led Ecstatic Dance open floor with Pixi
  Pete.\nWhether or not you are an experienced Contact Improviser. or Ecsta
 tic Dancer\, this is a place to develop your multi-dimensional practice or
  discover it\, and then to combine these beautiful practices on the open f
 loor of Ecstatic Dance\n12 Early Bird tickets\, saving 15%\, are available
  until they sell out.\nTicketTailor.com/events/asherlevinevents/1265614\n\
 nWhat to expect:\nContact Improv for Ecstatic Dance workshop: 10.30am – 
 1pm\nAppropriate for beginners to advanced\, The C.I workshop will cover e
 mbodied relational skills\, as well as exploring C.I body physics. Prior t
 o connecting in focused scores with others\, the workshop will start by de
 veloping your creative\, honest\, aware connection with self\, different p
 arts of your body and the space around you. We’ll enjoy the spaces and n
 on-touch connections between beings. Exploring skills of coming into physi
 cal contact with another\, you’ll deepen your presence to embodied\, cre
 ative\, moving physical relating. There will be spacious qualities within 
 the intimacy. You’ll also gain confidence in your awareness of boundarie
 s. As well as lighter\, lyrical scores\, you'll safely experience sharing 
 some body weight and offering support within dance. Finally\, we’ll open
  up beyond 1-2-1 into constellations of several beings\, combining awarene
 ss of our own dance vibe with consciousness of the whole evolving co-creat
 ed happening.\n\nEcstatic Dance open floor 2.30pm - 4.45pm\nComing togethe
 r in an opening circle to welcome All. There will be a warm-up and embodim
 ent to reconnect to the space\, self and each other. We will then move on\
 , to the music-led Ecstatic Dance open floor where\, with some light facil
 itation\, you'll move and dance freely in the space\, going on your journe
 y with &amp\; in the presence of the whole constellation of all present.\n
 The invitation is to deepen and broaden your movement practice while being
  aware of the whole co-creation\, having a place to be creative to explore
  your own authentic range of movement and emotions. The Ecstatic Dance wil
 l be accompanied by expertly DJ'd recorded music\, and live percussion.\n\
 nA live music inner journey . 4.45pm-5.15pm\nPixi Pete will lead this inne
 r journey to integrate the day's adventures. With hang drum and other inst
 ruments\, he will calm and ground you\, bringing your spirit being and ear
 th body into one. You'll be ready for your journey to continue\, taking th
 e day's treasures with you\, beyond the dance floor.\nClosing Circle 5.15p
 m to 5.30pm\nRefreshments:\nDrinks: A range of hot drinks are freely avail
 able. Cacoa will be for sale.\nPlease bring a water bottle to bring into t
 he space.\nSnacks: Please bring some snacks to keep your energy high.\nLun
 ch: Please bring your own lunch. It is possible to heat food in the kitche
 n.\n\nDate:\nSaturday 14th September 2024\nLocation:\nSt Michael's Parish 
 Hall\, Bristol BS2 8BE\nTimes:\n10.30am to 5.30pm.\n12 Early Bird Tickets\
 , saving 15%\, are available until they sell out!\nTicketTailor.com/events
 /asherlevinevents/1265614
ATTACH;FMTTYPE=image/jpeg:https://contactdance.co.uk/wp-content/uploads/20
 24/07/ecstatic2.jpg
CATEGORIES:Other Class
LOCATION:St. Michael's Parish Hall\, Park Ln\, Bristol BS2 8BE\, Bristol\, 
 BS2 8BE\, United Kingdom
GEO:51.457;-2.59932
X-APPLE-STRUCTURED-LOCATION;VALUE=URI;X-ADDRESS=Park Ln\, Bristol BS2 8BE\,
  Bristol\, BS2 8BE\, United Kingdom;X-APPLE-RADIUS=100;X-TITLE=St. Michael
 's Parish Hall:geo:51.457,-2.59932
END:VEVENT
BEGIN:VTIMEZONE
TZID:Europe/London
X-LIC-LOCATION:Europe/London
BEGIN:DAYLIGHT
DTSTART:20240331T020000
TZOFFSETFROM:+0000
TZOFFSETTO:+0100
TZNAME:BST
END:DAYLIGHT
END:VTIMEZONE
END:VCALENDAR