BEGIN:VCALENDAR
VERSION:2.0
PRODID:-//wp-events-plugin.com//7.2.3.1//EN
TZID:Europe/London
X-WR-TIMEZONE:Europe/London
BEGIN:VEVENT
UID:1099@contactdance.co.uk
DTSTART;TZID=Europe/London:20121230T110000
DTEND;TZID=Europe/London:20130101T180000
DTSTAMP:20121229T135940Z
URL:https://contactdance.co.uk/events/embrace-2013/
SUMMARY:Embrace 2013 - The Kingswood Foundation - 30 Dec 12 11:00
DESCRIPTION:Bristol’s 3 day CI New Year’s Celebration Jam\n~ book now f
 or early bird price\, ends 21st December ~\n\n\n\nDates: Sunday 30th Decem
 ber 2012 – Tuesday 1st January 2013\n\nTimes: 30th Dec: 11am-10.30pm | 3
 1st Dec: 11-1am | 1st Jan: 11-6pm*\n\nVenue: The Kingswood Foundation\n\nA
  celebratory event of contact improvisation to welcome in the New Year\, c
 o-created by the community who come\, all welcome.\n\nEvent Highlights:\n\
 n♥   Lots of lush Jam-time\n\n♥   Live music to titillate the senses
 \n\n♥  Class by Katy Dymoke\n\n♥   Lead warm-ups to ease us in by Al
 i\, Jocasta &amp\; K'Lo\n\n♥   Silent spaces\n\n♥   Children under
  15 welcome for free**\n\n♥   New Years eve shared Feast\n\n♥   Spa
 ce for attendees to create-your-own sessions\n\n♥   Surprises…\n\n&nb
 sp\;\n\nPrice: £40 early bird (before 21st December) then £50 (£45 conc
 s) for the full event. Day rates are £20 for the 30th\, £25 for the 31s
 t and £15 for the 1st.  Session rates available\, contact organisers. (i
 ncludes basic refreshments but not food and accommodation)\n\nTo book: ema
 il ny2012-13@contactdance.co.uk call Claire on 0777 373 8241\n\nPlease not
 e:\n♥  * Exact timings and format may change\, check here or our facebo
 ok event for updates to the schedule\n♥  ** Please let us know in advan
 ce if you plan to bring children and if you have ideas for sharing childca
 re over the event\n♥  Please let us know in advance if you need\, or ca
 n offer\, accommodation\n♥  To attend the Meditation please arrive at 9
 .50am latest\n♥  To attend the Underscore you will need to know the sco
 re beforehand\, there will be explanations held on the 30th &amp\; 31st fo
 r those that don't\n\n&nbsp\;\n\nWelcome Letter\n\nClick here to download 
 the welcome info\n\n\nClosest train station is Lawrence Hill\, but this is
  a very small one\, from where you can get a bus to Two Mile Hill and walk
 . Closest main train station is Bristol Temple Meads.\n\n 
ATTACH;FMTTYPE=image/jpeg:https://contactdance.co.uk/wp-content/uploads/20
 12/11/nyeventpic.png
CATEGORIES:CI Festival
LOCATION:The Kingswood Foundation\, The Kingswood Estate\, 20 Old School Ho
 use\, Britannia road\, Bristol\, BS15 8DB\, United Kingdom
GEO:51.45870137137366;-2.516200375146468
X-APPLE-STRUCTURED-LOCATION;VALUE=URI;X-ADDRESS=The Kingswood Estate\, 20 O
 ld School House\, Britannia road\, Bristol\, BS15 8DB\, United Kingdom;X-A
 PPLE-RADIUS=100;X-TITLE=The Kingswood Foundation:geo:51.45870137137366,-2.
 516200375146468
END:VEVENT
BEGIN:VTIMEZONE
TZID:Europe/London
X-LIC-LOCATION:Europe/London
BEGIN:STANDARD
DTSTART:20121028T010000
TZOFFSETFROM:+0100
TZOFFSETTO:+0000
TZNAME:GMT
END:STANDARD
END:VTIMEZONE
END:VCALENDAR