BEGIN:VCALENDAR
VERSION:2.0
PRODID:-//wp-events-plugin.com//7.2.3.1//EN
TZID:Europe/London
X-WR-TIMEZONE:Europe/London
BEGIN:VEVENT
UID:2501@contactdance.co.uk
DTSTART;TZID=Europe/London:20220629T120000
DTEND;TZID=Europe/London:20220704T100000
DTSTAMP:20220606T205929Z
URL:https://contactdance.co.uk/events/emerging-hearts-contact-improvisatio
 n-dance-camp-uk/
SUMMARY:Emerging Hearts Contact Improvisation Dance Camp UK - Bush Farm Bis
 on Centre - 29 Jun 22 12:00
DESCRIPTION:\nContact Improvisation inspired gathering...\nWhere Community 
 Matters as much as the Dance\nA full immersion into the amazing embodied p
 ractice of Contact Improvisation with some of the best UK teachers plus a 
 couple of wonderful international teachers (35 Hours of Contact Improvisat
 ion sessions over 5 days)\nSome of the best UK contact improv musicians fo
 r our evening Contact jams\nAll sorts of other amazing dance workshops (no
 t just contact) and a variety of creative\, somatic and sound-based experi
 ences to support you on your journey. See the full line-up for 2022 here\n
 Skilful &amp\; Intuitive Bodyworkers (taking bookings onsite)\nBodywork sh
 aring evenings in the warm and cosy surround of our Tipi\nDelicious Vegan 
 &amp\; Veggie Lunches and Dinner cooked with love by our experienced chef
 ’s and kitchen team (find out more)\nA great selection of spaces to danc
 e\, hang out and share as well as all the basic facilities to make your ex
 perience comfortable and easy\, see all the details here\nSmall and intima
 te gathering with a wonderful co-creative community feel\nAll this nestled
  within green fields\, wild meadows\, natural woodlands\, lakes\, amazing 
 skylines and the rolling hills of the Wiltshire countryside\nYou are also 
 invited to join the team with our cheaper ticket options\nWe are looking f
 orward to dancing with you soon….\nTickets are available through the web
 site.\nFor all the info &amp\; tickets visit the website: www.contactimpr
 ovcamp.co.uk
ATTACH;FMTTYPE=image/jpeg:https://contactdance.co.uk/wp-content/uploads/20
 22/05/richard.jpg
CATEGORIES:CI Festival
LOCATION:Bush Farm Bison Centre\, Bush Farm Bison Centre\, West Knoyle\, Wi
 ltshire\, BA12 6AE\, United Kingdom
X-APPLE-STRUCTURED-LOCATION;VALUE=URI;X-ADDRESS=Bush Farm Bison Centre\, We
 st Knoyle\, Wiltshire\, BA12 6AE\, United Kingdom;X-APPLE-RADIUS=100;X-TIT
 LE=Bush Farm Bison Centre:geo:0,0
END:VEVENT
BEGIN:VTIMEZONE
TZID:Europe/London
X-LIC-LOCATION:Europe/London
BEGIN:DAYLIGHT
DTSTART:20220327T020000
TZOFFSETFROM:+0000
TZOFFSETTO:+0100
TZNAME:BST
END:DAYLIGHT
END:VTIMEZONE
END:VCALENDAR