BEGIN:VCALENDAR
VERSION:2.0
PRODID:-//wp-events-plugin.com//7.2.3.1//EN
TZID:Europe/London
X-WR-TIMEZONE:Europe/London
BEGIN:VEVENT
UID:1428@contactdance.co.uk
DTSTART;TZID=Europe/London:20131113T190000
DTEND;TZID=Europe/London:20131113T210000
DTSTAMP:20131024T123408Z
URL:https://contactdance.co.uk/events/exploring-centre-jamus-wood-2013-11-
 13/
SUMMARY:EXPLORING CENTER with Jamus Wood - Class 1 - The Willow Studio - 13
  Nov 13 19:00
DESCRIPTION:EXPLORING CENTER with Jamus Wood\n2 contact fundamentals classe
 s\, open to all.\n\n \n\nClass 1: FINDING CENTER\n\nIn this class we will
  start from a soft fluid place\, yielding our weight to the earth. Discove
 ring how it feels to melt into the support of the floor. Letting go and fi
 nding ways to move from a softened body. In the first part of this class w
 e will create 'the right conditions' to find and move from center. Letting
  go of our habitual need to get somewhere and opening our beginners mind t
 o move from sensation.\n\nIn the latter stages of the class we will take t
 his moving center and move through a series of contact exercises working c
 lose to the ground. Using our center to move us on and around our dance pa
 rtner. And ending the class with some jam time.\n\nI start my classes prom
 ptly so please arrive in good time so we can begin together.\n\n&nbsp\;
CATEGORIES:CI Class
LOCATION:The Willow Studio\, St. Werburghs Primary School\, James Street\, 
 Bristol\, BS2 9US\, United Kingdom
GEO:51.4704;-2.57417
X-APPLE-STRUCTURED-LOCATION;VALUE=URI;X-ADDRESS=St. Werburghs Primary Schoo
 l\, James Street\, Bristol\, BS2 9US\, United Kingdom;X-APPLE-RADIUS=100;X
 -TITLE=The Willow Studio:geo:51.4704,-2.57417
END:VEVENT
BEGIN:VTIMEZONE
TZID:Europe/London
X-LIC-LOCATION:Europe/London
BEGIN:STANDARD
DTSTART:20131027T010000
TZOFFSETFROM:+0100
TZOFFSETTO:+0000
TZNAME:GMT
END:STANDARD
END:VTIMEZONE
END:VCALENDAR