BEGIN:VCALENDAR
VERSION:2.0
PRODID:-//wp-events-plugin.com//7.2.3.1//EN
TZID:Europe/London
X-WR-TIMEZONE:Europe/London
BEGIN:VEVENT
UID:2483@contactdance.co.uk
DTSTART;TZID=Europe/London:20220416T100000
DTEND;TZID=Europe/London:20220416T170000
DTSTAMP:20220308T093729Z
URL:https://contactdance.co.uk/events/falling-flying-contact-improvisation
 -workshop-with-hugh-stanier/
SUMMARY:Falling & Flying-Contact Improvisation workshop with Hugh Stanier -
  St. Michael's Parish Hall - 16 Apr 22 10:00
DESCRIPTION:\nThe workshop:\nWe will begin by playing with gravity and mome
 ntum\, focusing on the ideas of falling and flying- both in solo movement 
 and in contact. Starting close to the ground and building up through level
 s\, we develop confidence in our own abilities\; building trust in the bod
 y.\nBy researching in our solo movement the subtle mechanics of ‘small d
 ance'\, suspension &amp\; reaching\, we progress towards using momentum an
 d spirals to learn\, fluid ways to lift one-another through ‘catching a 
 ride’. Working with the frame and structure of the arms\, we will explor
 e ways to connect to space and find counterbalance in the body\, providing
  frames to both lift and be lifted and offer structures to be explored. We
  will focus in on the details and technique of body tone\, alignment and s
 mall points of contact that help with finding lightness in being lifted an
 d efficiency in lifting.\nAs well as these specific focuses\, there will a
 lso be time given to more free exploration\, to integrate the material int
 o the dance naturally and organically.\nTechnique and Poetry.\nStructure a
 nd Freedom.\nPlayful Beings in Motion.\nAbout Hugh Stanier\nHugh is a move
 ment artist specialising in Improvisation &amp\; Contact Improvisation. He
  has over 16 years of teaching &amp\; performance experience. He began dan
 cing when he was 15\, training in Break dance and Contemporary. He went on
  to train at Northern School of Contemporary Dance\, graduating in 2008. S
 ince then he has worked with companies such as 2Faced Dance\, Tom Dale\, S
 TAN Won’t Dance\, and Ultima Vez.\nHe has taught C.I. intensives interna
 tionally at the Goa Contact Festival(2015-17)\, Berlin contact festival\, 
 Soma Arts festival (Munich)\, Portugal Contact Gathering and the Goa Dance
  residency 2019 &amp\; 2020. Currently his main focus is organising &amp\;
  facilitating his own events and workshops.\nHe is also a qualified TMW (T
 ai Chi Movements for Wellbeing) facilitator. The principles of Tai Chi and
  Qi Kung underpin his approach to teaching and sharing movement.\nWho is t
 his workshop for?\nThis workshop is for people who have had some previous 
 experience of Contact Improvisation.\nWhat to bring:\nComfy clothes\, chan
 ge of t-shirt\, your lunch\, plenty of liquids\, snacks. Tea and Coffee is
  provided.\nVenue:\nSt Michael's Parish Hall\nBS2 8BE\nhttps://goo.gl/maps
 /jDJkDhP6TdDvHeHL8\nParking\nGo to the entrance to St Michael's Parish Hal
 l. You will see the gates to the playground to your right. Drive into the 
 second playground.\nThis is the area painted like a football pitch behind 
 the Hall.\nTimings\n9.30 doors open -warm up space\n10am start\n5pm finish
 \nTickets\nearlybird £33\ngeneral release £42\npurchase below:\nhttps://
 hdfst.uk/E72788\nTickets are non-transferable. If you wish to cancel and h
 ave someone else in mind\, please contact me on elkmailer@gmail.com. Ticke
 ts will go for resale on headfirst once event is sold out.
ATTACH;FMTTYPE=image/jpeg:https://contactdance.co.uk/wp-content/uploads/20
 22/03/hugh.jpg
CATEGORIES:CI Workshop
LOCATION:St. Michael's Parish Hall\, Park Ln\, Bristol BS2 8BE\, Bristol\, 
 BS2 8BE\, United Kingdom
GEO:51.457;-2.59932
X-APPLE-STRUCTURED-LOCATION;VALUE=URI;X-ADDRESS=Park Ln\, Bristol BS2 8BE\,
  Bristol\, BS2 8BE\, United Kingdom;X-APPLE-RADIUS=100;X-TITLE=St. Michael
 's Parish Hall:geo:51.457,-2.59932
END:VEVENT
BEGIN:VTIMEZONE
TZID:Europe/London
X-LIC-LOCATION:Europe/London
BEGIN:DAYLIGHT
DTSTART:20220327T020000
TZOFFSETFROM:+0000
TZOFFSETTO:+0100
TZNAME:BST
END:DAYLIGHT
END:VTIMEZONE
END:VCALENDAR