BEGIN:VCALENDAR
VERSION:2.0
PRODID:-//wp-events-plugin.com//7.2.3.1//EN
TZID:Europe/London
X-WR-TIMEZONE:Europe/London
BEGIN:VEVENT
UID:2663@contactdance.co.uk
DTSTART;TZID=Europe/London:20231118T113000
DTEND;TZID=Europe/London:20231118T130000
DTSTAMP:20231017T135849Z
URL:https://contactdance.co.uk/events/floorwork-class-sensing-body-movemen
 t-workshops-with-jan-ming-lee-laura-moy-2023-11-18/
SUMMARY:Floorwork Class: Sensing Body // movement workshops with Jan-Ming L
 ee & Laura Moy - The Albany Centre - 18 Nov 23 11:30
DESCRIPTION:\n\nWe invite you to reconnect to your movement through your at
 tention to breath\, your organs and internal landscape.\nBeginning from th
 e ground up\, we find trust with gravity\, exploring movement from evoluti
 onal &amp\; developmental patterns. How do our radial sea relatives breath
 e\, move and process? How did we as babies develop our desires to move/sup
 port ourselves in our body tone?\n\nWe begin class with an open-ended expl
 oration\, drawing on imagery\, breath and anatomical pathways. We play wit
 h softness and strength.\n\nWe invite you to connect with each other spati
 ally through improvisational puzzles that celebrate our individual differe
 nces and choices.. This becomes a springboard to free improvisational dyna
 mic dancing.\nYou can drop-in\, or come regularly - the more sessions you 
 attend\, the more you will build your personal archive of ways to move\; c
 omplementing your dance expression\, and assisting with easier lifting of 
 children (!)\, shopping and heavy objects\, navigating our relational spac
 e\, easier breathing\, and clubbing without taking your knees out…\n\nAb
 out your teachers:\nJan-Ming is a dancer\, musician and somatic educator. 
 She has been performing\, teaching and facilitating groups for over 15 yea
 rs\, creating interactive experiences that focus on empathy and communicat
 ion in a world of social and cultural differences. She is a certified prac
 titioner of somatic bodywork (The Pantarei Approach) and is informed by he
 r studies in contemporary dance\, physical theatre\, contact improvisation
 \, qigong\, axis syllabus\, experiential anatomy and somatic movement prac
 tices.\nwww.janlee.org\n\nLaura is a dancer\, circus artist and massage th
 erapist. She has been performing and creating professionally for 17 years 
 since completing a BA Dance Theatre at Laban. Her movement training has in
 cluded contemporary dance\, physical theatre\, experiential anatomy\, aeri
 al\, Chinese pole\, partner acrobatics\, contact improvisation and martial
  arts. She is a qualified remedial and sports massage therapist\, her prac
 tice is informed by her training in Body Mind Centering and somatic moveme
 nt work.\nlauramoy.co.uk\n\nDates and location:\nThe Albany Centre\, Shaft
 esbury Avenue\, Montpelier\, Bristol\, BS6 5LT\nSaturday mornings 11.30 - 
 13.00\nNovember 4th\, 11th\, 18th\, 25th\nCosts per class:\nDrop-in (limit
 ed numbers\, booking recommended)\n£13 standard\n£16 contributor\n£9 co
 ncessions (available for those unemployed or underemployed)\nBring exact c
 ash\, or pay by card (1.75% fee applies)\nBook whole series – save 10%!\
 n£47 standard / £58 contributor / £32 concessions*\nPaypal jan.lee.uk@g
 mail.com or email for bank transfer.\n\nInfo: jan.lee.uk@gmail.com\n\nTo 
 book:\nPaypal: Send a payment to jan.lee.uk@gmail.com with the reference:
  "Your name/Date of classes/FW" (email a brief message to say you've made 
 a payment and for which dates)\nBank Transfer: Email and we will send you 
 bank details.
ATTACH;FMTTYPE=image/jpeg:https://contactdance.co.uk/wp-content/uploads/20
 23/09/Laura-and-Jan-Ming.jpg
CATEGORIES:Other Class
LOCATION:The Albany Centre\, Shaftesbury Ave\, Montpelier\, Bristol\, BS6 5
 LT\, United Kingdom
X-APPLE-STRUCTURED-LOCATION;VALUE=URI;X-ADDRESS=Shaftesbury Ave\, Montpelie
 r\, Bristol\, BS6 5LT\, United Kingdom;X-APPLE-RADIUS=100;X-TITLE=The Alba
 ny Centre:geo:0,0
END:VEVENT
BEGIN:VTIMEZONE
TZID:Europe/London
X-LIC-LOCATION:Europe/London
BEGIN:STANDARD
DTSTART:20231029T010000
TZOFFSETFROM:+0100
TZOFFSETTO:+0000
TZNAME:GMT
END:STANDARD
END:VTIMEZONE
END:VCALENDAR