BEGIN:VCALENDAR
VERSION:2.0
PRODID:-//wp-events-plugin.com//7.2.3.1//EN
TZID:Europe/London
X-WR-TIMEZONE:Europe/London
BEGIN:VEVENT
UID:2126@contactdance.co.uk
DTSTART;TZID=Europe/London;VALUE=DATE:20161105
DTEND;TZID=Europe/London;VALUE=DATE:20161107
DTSTAMP:20161018T195308Z
URL:https://contactdance.co.uk/events/flying-fishes/
SUMMARY:Flying Fishes - Frome Steiner Academy - 5 Nov 16 12:00
DESCRIPTION:The warm water invites you to let go and to experiment in an or
 ganic and fluid way of moving. You learn how to play with its resistance a
 nd dynamic\, how to transition between following the waves and making soft
  and clear propositions. \n
CATEGORIES:CI Workshop
LOCATION:Frome Steiner Academy\, Park Road\, Frome\, Somerset\, BA11 \, Uni
 ted Kingdom
GEO:51.2284089;-2.325884500000029
X-APPLE-STRUCTURED-LOCATION;VALUE=URI;X-ADDRESS=Park Road\, Frome\, Somerse
 t\, BA11 \, United Kingdom;X-APPLE-RADIUS=100;X-TITLE=Frome Steiner Academ
 y:geo:51.2284089,-2.325884500000029
END:VEVENT
BEGIN:VTIMEZONE
TZID:Europe/London
X-LIC-LOCATION:Europe/London
BEGIN:STANDARD
DTSTART:20161030T010000
TZOFFSETFROM:+0100
TZOFFSETTO:+0000
TZNAME:GMT
END:STANDARD
END:VTIMEZONE
END:VCALENDAR