BEGIN:VCALENDAR
VERSION:2.0
PRODID:-//wp-events-plugin.com//7.2.3.1//EN
TZID:Europe/London
X-WR-TIMEZONE:Europe/London
BEGIN:VEVENT
UID:2911@contactdance.co.uk
DTSTART;TZID=Europe/London:20260214T110000
DTEND;TZID=Europe/London:20260214T203000
DTSTAMP:20260131T170240Z
URL:https://contactdance.co.uk/events/freedom-within-limits-exploring-the-
 edges-of-contact-improvisation/
SUMMARY:Freedom Within Limits - Exploring the Edges of Contact Improvisatio
 n - The Greenhouse - 14 Feb 26 11:00
DESCRIPTION:\n\n\n\n\nImmerse yourself into sensorial textures and landscap
 es at the edges of contact improvisation with Jamus Wood\, where movement 
 becomes conversation and the rope enriches every whisper of sensation. Sen
 ses sharpen\, roles shift\, breath thickens\, and touch gathers into a qui
 et language that pulls you deeper into the dance.\n\nOur day at the edge o
 f Contact Improvisation\, begins by Grounding ourselves in contact improvi
 sation and cultivating our attention inward and outward\, so movement well
 s up from listening\, from breath\, from the body’s own inspirations.\n\
 nOnce we are tuned to the groups collective body\, we’ll draw from Shiba
 ri. We’ll begin without ropes\, exploring relational sensation through w
 eight and compression\, binding/unbinding\, held/free. From here we will m
 eet the rope Ichinawa (one-rope) to deepen into resistance and surrender\,
  stillness and breath\, gravity and flow.\n\nWe’ll conclude our day with
  an exploratory jam\, allowing space to integrate what we've explored and 
 to express ourselves freely\, weaving our individual journeys into a colle
 ctive tapestry of creativity and joy.Join us in this supportive circle of 
 explorers. Together\, let’s celebrate the borders of Contact Improvisati
 on with Shibari\, deepening our connections through movement\, trust and s
 hared discovery.\n\nLimited tickets available.\n\n\nhttps://www.tickettail
 or.com/events/jamuswoodembodiment/1957903\n\n\nLocation\nThe Greenhouse\, 
 Hereford Street\, Bedminster\, Bristol\, BS3 4NA\n\n
ATTACH;FMTTYPE=image/jpeg:https://contactdance.co.uk/wp-content/uploads/20
 26/01/freedom.jpg
CATEGORIES:CI Workshop
LOCATION:The Greenhouse\, Hereford Street\, Bedminster\, Bristol\, BS3 4NA\
 , Bristol\, BS3 4NA\, United Kingdom
X-APPLE-STRUCTURED-LOCATION;VALUE=URI;X-ADDRESS=Hereford Street\, Bedminste
 r\, Bristol\, BS3 4NA\, Bristol\, BS3 4NA\, United Kingdom;X-APPLE-RADIUS=
 100;X-TITLE=The Greenhouse:geo:0,0
END:VEVENT
BEGIN:VTIMEZONE
TZID:Europe/London
X-LIC-LOCATION:Europe/London
BEGIN:STANDARD
DTSTART:20251026T010000
TZOFFSETFROM:+0100
TZOFFSETTO:+0000
TZNAME:GMT
END:STANDARD
END:VTIMEZONE
END:VCALENDAR