BEGIN:VCALENDAR
VERSION:2.0
PRODID:-//wp-events-plugin.com//7.2.3.1//EN
TZID:Europe/London
X-WR-TIMEZONE:Europe/London
BEGIN:VEVENT
UID:2495@contactdance.co.uk
DTSTART;TZID=Europe/London:20220924T090000
DTEND;TZID=Europe/London:20220925T170000
DTSTAMP:20220831T070834Z
URL:https://contactdance.co.uk/events/from-withinto-together-functional-an
 d-poetic-anatomy/
SUMMARY:From within…to together - functional and poetic anatomy - St. Mic
 hael's Parish Hall - 24 Sep 22 09:00
DESCRIPTION:\n\nWe are thrilled to be hosting Teti Nikolopoulou\, a visitin
 g teacher from Athens\, Greece. She will be teaching 24th/25th September.\
 n\nDoors open from 9 for personal warmup\nTeaching hours:\n10-5 Saturday\n
 10-5 Sunday\nContact: Agnieszka Grenckowska agrenckowska@gmail.com\n\n&nbs
 p\;\n\n**************Pricing**************\nFull ticket £100\nConcession 
 £85\n\nBuy tickets here.\n\nIn this workshop we will focus on the support
  that our connective tissue -fascia gives us and how we can connect to eac
 h other. From the skin to the bone\, we can feel the layers of our body pa
 rts and find the anchors that allow us to be present in the moment and to 
 go deeper towards/into each other.\n\nWith instructions that derive from e
 xperiential anatomy\, somatic practices and holistic approach\, we focus o
 n the raising awareness and the presence of the partners’ bodies. We thu
 s add to our explorations the internal functions of human action and inter
 action. \n\nEventually\, we “play” with the incredible properties of t
 he body: when it functions as an entity\, its ability to vary its shape wi
 thout breaking\, the helix-like and spiral movements created by the joints
 \, its infinite kinetic chains it can produce (mobius strip)\, and much mo
 re.\n\nSuitable for dancers who have some previous experience of contact i
 mprovisation.\n\nTeti Nikolopoulou is a dancer\, choreographer\, researche
 r\, dance and physical education teacher\, with a somatic approach to both
  choreography and dance education. After her graduation she took lessons a
 t the Movement Research studio\, Merce Cunningham studio\, Paul Taylor stu
 dio and Alvin Ailey Studio\, in New York City and at Laban Centre\, London
 .\n\nAmong others\, she has attended lessons and seminars in release techn
 iques and improvisation with David Zabrano\, Thomas Mettler\, Gwen Wellive
 r\, Maxine Heppner\, and Axis Syllabus with Frey Faust\, Timos Zechas and 
 others. Since 2000\, she has trained in contact improvisation (CI) with Ch
 ristina Klissiouni and she has participated in seminars of the practice wi
 th Nancy Stark Smith\, Nitta Little\, Daniel Lepkoff\, Benno Voorham\, Cha
 rly Morissey and others.\n\nShe has been awarded as a young choreographer 
 and she has received grants from the Ministry of Culture in 2005\, 2007\, 
 2017-18\, 2018-19 and 2021-22. She has a PhD related to contact improvisat
 ion. She has been teaching contact improvisation for more than 15 years. S
 he gives CI lessons and lectures about somatic approach to dance in severa
 l professional dance schools in Greece and at conferences. She was a guest
  teacher in 2019’s Freiburg international contact improvisation festival
 .\n\nAnima - soma (1992) is a contemporary dance company that specializes 
 in dance creation and dance archiving. Since 2017 the company has collabor
 ated with Teti Nikolopoulou\, embracing her vision and aiming to communica
 te and disseminate her embodied approach.\n\nGift/present 2019\, extracts\
 n\nhttps://www.youtube.com/watch?v=6foaJKpsVEE\n\ninfinities 2017-18- teas
 er\n\nhttps://www.youtube.com/watch?v=XuXwiW-bnW4&amp\;feature=youtu.be\n\
 nMeet me there\, 2016\, teaser\n\nhttps://www.youtube.com/watch?v=QjhOomep
 Nxo&amp\;feature=youtu.be\n\nRoots 2015\, teaser\n\nhttps://www.youtube.co
 m/watch?v=Byj-b6nTEzA\n\nΙsolated\, 2010\, teaser\n\nhttps://www.youtube.
 com/watch?v=k21eo7xTgXs\n\nKnots 2011\, full piece\n\nhttps://www.youtube.
 com/watch?v=spCopN1TgP4
ATTACH;FMTTYPE=image/jpeg:https://contactdance.co.uk/wp-content/uploads/20
 22/04/Teti-Nikolopoulou-Christina-Klissiouni-Timos-Zechas.jpg
CATEGORIES:CI Workshop
LOCATION:St. Michael's Parish Hall\, Park Ln\, Bristol BS2 8BE\, Bristol\, 
 BS2 8BE\, United Kingdom
GEO:51.457;-2.59932
X-APPLE-STRUCTURED-LOCATION;VALUE=URI;X-ADDRESS=Park Ln\, Bristol BS2 8BE\,
  Bristol\, BS2 8BE\, United Kingdom;X-APPLE-RADIUS=100;X-TITLE=St. Michael
 's Parish Hall:geo:51.457,-2.59932
END:VEVENT
BEGIN:VTIMEZONE
TZID:Europe/London
X-LIC-LOCATION:Europe/London
BEGIN:DAYLIGHT
DTSTART:20220327T020000
TZOFFSETFROM:+0000
TZOFFSETTO:+0100
TZNAME:BST
END:DAYLIGHT
END:VTIMEZONE
END:VCALENDAR