BEGIN:VCALENDAR
VERSION:2.0
PRODID:-//wp-events-plugin.com//7.2.3.1//EN
TZID:Europe/London
X-WR-TIMEZONE:Europe/London
BEGIN:VEVENT
UID:1319@contactdance.co.uk
DTSTART;TZID=Europe/London:20130623T140000
DTEND;TZID=Europe/London:20130623T180000
DTSTAMP:20130620T193930Z
URL:https://contactdance.co.uk/events/global-underscore-2013/
SUMMARY:Global Underscore 2013 - DMAC\, (4th Floor) Hamilton House - 23 Jun
  13 14:00
DESCRIPTION:PLEASE NOTE: doors close at 2.15pm\, though arrive early for th
 e explanation at 2pm if you are unfamiliar with the underscore. Please com
 e prepared to stay for the whole time\n\nOpen to all - beginners welcome\n
 \n&nbsp\;\n\nThe Global Underscore is a simultaneous practice of the Under
 score around the world. The Underscore NYC group has continued the traditi
 on that dancer Claire Filmon began in 2000 of creating and coordinating a 
 global Underscore at the summer solstice.\n\n Click here to see a map of p
 articipants across the globe.\n\nThe Global Underscore practice is a sligh
 tly modified Underscore. A special “small dance” stand happens during 
 the “skinesphere” phase\, in which each site faces the next site on th
 e path of Underscores happening around the world. A closing small dance st
 and\, facing the other direction\, concludes the Global Underscore.\n\nIf 
 you have never been at an Underscore before\, be there by 2pm to hear the 
 explanation. Doors close at 2.15pm and you undertake to stay for the whole
  event.\n\nPlease note: there will be no class and jam at the usual time o
 n this day\n\nSchedule\n\n	14:45 preambulation\n	14:50 opening 5 min globa
 l Small Dance\, facing the next site to the east according to the map\n	17
 :55 closing global Small Dance\, facing the next site to the west accord
 ing to the map\n	18:00 closing\n\nPlease be prompt as no latecomers admitt
 ed.\nWhat is an Underscore?\nThe Underscore is a framework for practicing 
 and researching dance improvisation that Nancy Stark Smith has been develo
 ping since 1990 based on her work with Contact Improvisation. It is a long
  jamming/CI/improvisation score that guides dancers through a series of 
 “changing states”—from solo relaxation and sensitizing to gravity an
 d support\, through group circulation and interaction\, to contact improvi
 sation engagements\, then opening out to full group improvisation\, and ba
 ck to rest and reflection.\n\nFor more Information go to www.nancystarksmi
 th.com/underscore\nGlobal Underscore blog: www.globalunderscore.blogspot.c
 o.uk
ATTACH;FMTTYPE=image/jpeg:https://contactdance.co.uk/wp-content/uploads/20
 13/02/global-underscore.jpg
CATEGORIES:CI Jam
LOCATION:DMAC\, (4th Floor) Hamilton House\, 80 Stokes Croft\, Bristol\, BS
 1 3QY\, United Kingdom
GEO:51.4629;-2.58991
X-APPLE-STRUCTURED-LOCATION;VALUE=URI;X-ADDRESS=80 Stokes Croft\, Bristol\,
  BS1 3QY\, United Kingdom;X-APPLE-RADIUS=100;X-TITLE=DMAC\, (4th Floor) Ha
 milton House:geo:51.4629,-2.58991
END:VEVENT
BEGIN:VTIMEZONE
TZID:Europe/London
X-LIC-LOCATION:Europe/London
BEGIN:DAYLIGHT
DTSTART:20130331T020000
TZOFFSETFROM:+0000
TZOFFSETTO:+0100
TZNAME:BST
END:DAYLIGHT
END:VTIMEZONE
END:VCALENDAR