BEGIN:VCALENDAR
VERSION:2.0
PRODID:-//wp-events-plugin.com//7.2.3.1//EN
TZID:Europe/London
X-WR-TIMEZONE:Europe/London
BEGIN:VEVENT
UID:2560@contactdance.co.uk
DTSTART;TZID=Europe/London:20230304T120000
DTEND;TZID=Europe/London:20230304T143000
DTSTAMP:20230207T102404Z
URL:https://contactdance.co.uk/events/gravity-and-sensation-are-our-teache
 rs-contact-improvisation-class/
SUMMARY:Gravity and Sensation Are Our Teachers: Contact Improvisation Class
  - Space 238 - 4 Mar 23 12:00
DESCRIPTION:\nContact Improvisation class for all levels &amp\; bodies\,\nS
 at 4 March 12:00 - 14:30 (stay after for lunch!)\nCost: £12 per person (
 £10 concession)\nTaught by Jan-Ming Lee\nBooking:\nThe studio has limited
  capacity so to avoid disappointment\, please email jan.lee.uk@gmail.com 
 for a space in advance!\nAccess needs:\nPlease contact me on 07834 227 678
  if you wish to communicate any questions or access needs beforehand. We r
 egret that there are a few small steps to get from the cafe into the studi
 o.\nClass info:\nGravity and Sensation Are Our Teachers (quote - Daniel Le
 pkoff)\nA practice of ‘knowing’ and ‘not knowing’\nWe can know thr
 ough our tactile and bodily senses\, we can know a sense of gravity fallin
 g and rising\, we can practice knowing when the meeting touch of another h
 uman is welcoming\, supportive\, playful\, tentative…\nThe ‘knowing’
  might be a map to find courage and joy to dance together with a ‘not kn
 owing’ - something that surely resonates with our current times of uncer
 tainty.\nThis class involves consensual physical touch which is optional a
 nd free to explore in your individual interpretation. I make sure that com
 munication and choice is always present for every dancer to opt in or out.
 \nVenue: Space 238 (238 Stapleton Road\, Easton\, BS5 0NT)\nSpace 238 has 
 a cafe with hot drinks\, smoothies\, juices and food with vegan options.\n
 About Jan-Ming:\nI create and facilitate interactive experiences through d
 ance\, music\, and somatic education\, focusing on empathy and communicati
 on in a world of social and cultural differences. My work is situated in t
 he spaces in-between things\, in the movements of transition and translati
 on between different known worlds.\nI have been dancing contact improvisat
 ion for over 15 years and am passionate about the exquisitely powerful and
  completely ordinary practice that it can be to collectively bring us into
  a dancing conversation together\, respecting our differences through curi
 osity\, courage and care.
ATTACH;FMTTYPE=image/jpeg:https://contactdance.co.uk/wp-content/uploads/20
 23/02/gravitysensation.jpg
CATEGORIES:CI Class
LOCATION:Space 238\, 238 Stapleton Road\, Bristol\, BS5 0NT\, United Kingdo
 m
GEO:51.4653779;-2.5697543999999652
X-APPLE-STRUCTURED-LOCATION;VALUE=URI;X-ADDRESS=238 Stapleton Road\, Bristo
 l\, BS5 0NT\, United Kingdom;X-APPLE-RADIUS=100;X-TITLE=Space 238:geo:51.4
 653779,-2.5697543999999652
END:VEVENT
BEGIN:VTIMEZONE
TZID:Europe/London
X-LIC-LOCATION:Europe/London
BEGIN:STANDARD
DTSTART:20221030T010000
TZOFFSETFROM:+0100
TZOFFSETTO:+0000
TZNAME:GMT
END:STANDARD
END:VTIMEZONE
END:VCALENDAR