BEGIN:VCALENDAR
VERSION:2.0
PRODID:-//wp-events-plugin.com//7.2.3.1//EN
TZID:Europe/London
X-WR-TIMEZONE:Europe/London
BEGIN:VEVENT
UID:2559@contactdance.co.uk
DTSTART;TZID=Europe/London:20230513T100000
DTEND;TZID=Europe/London:20230513T170000
DTSTAMP:20230207T101634Z
URL:https://contactdance.co.uk/events/intimacy-space-contact-improvisation
 -day-workshop/
SUMMARY:Intimacy & Space - Contact Improvisation day workshop - St. Michael
 's Parish Hall - 13 May 23 10:00
DESCRIPTION:\nwith David Basak &amp\; Asher Levin\nA day of Contact Improvi
 sation experience\, training &amp\; play\nOpen to all with a grounding in 
 CI wishing to explore from delicate to dynamic\n Strategies to be prese
 nt &amp\; responsive to each moment\n Getting closer\, while staying co
 nnected to all\n In a lovely\, bright\, central venue\, with sprung flo
 or\nPrice: £55* (£45/£65) as appropriate for you.\nLimited to 28 ticket
 s\n* Reduced price for teachers &amp\; financial need - please email\nTick
 ets: tickettailor.com/events/AsherLevinEvents
ATTACH;FMTTYPE=image/jpeg:https://contactdance.co.uk/wp-content/uploads/20
 23/02/intimacyspace.jpg
CATEGORIES:CI Workshop
LOCATION:St. Michael's Parish Hall\, Park Ln\, Bristol BS2 8BE\, Bristol\, 
 BS2 8BE\, United Kingdom
GEO:51.457;-2.59932
X-APPLE-STRUCTURED-LOCATION;VALUE=URI;X-ADDRESS=Park Ln\, Bristol BS2 8BE\,
  Bristol\, BS2 8BE\, United Kingdom;X-APPLE-RADIUS=100;X-TITLE=St. Michael
 's Parish Hall:geo:51.457,-2.59932
END:VEVENT
BEGIN:VTIMEZONE
TZID:Europe/London
X-LIC-LOCATION:Europe/London
BEGIN:DAYLIGHT
DTSTART:20230326T020000
TZOFFSETFROM:+0000
TZOFFSETTO:+0100
TZNAME:BST
END:DAYLIGHT
END:VTIMEZONE
END:VCALENDAR