BEGIN:VCALENDAR
VERSION:2.0
PRODID:-//wp-events-plugin.com//7.2.3.1//EN
TZID:Europe/London
X-WR-TIMEZONE:Europe/London
BEGIN:VEVENT
UID:1003@contactdance.co.uk
DTSTART;TZID=Europe/London:20121125T100000
DTEND;TZID=Europe/London:20121125T163000
DTSTAMP:20120920T122621Z
URL:https://contactdance.co.uk/events/jess-curtis-25-12/
SUMMARY:Precision Contact with Jess Curtis - Bristol Community Dance Centre
  - 25 Nov 12 10:00
DESCRIPTION:Precision Contact\nContact Improvisation is an improvisational 
 dance form utilizing physical principles such as touch\, momentum\, gravit
 y\, friction\, resistance\, counterbalance\, lifting and falling. Primaril
 y practiced as a duet form\, Contact trains the senses and reflexes to all
 ow for nuanced communication through touch\,  and the playful interaction
  of weight and momentum in space.  The dancers work at the speed of refle
 x\, tuned to the speed of falling.[1]\n\nThis is a skills-based Contact Im
 provisation workshop for movers that want to increase the awareness and pr
 ecision in their dance.\n\nWe will address and practice 1) sustaining a cl
 ear point or points of contact.  2) the modulation of speed and pressure\
 , 3) control during inversion\, supporting and riding\, 4) sensitivity to 
 the floor\, 5) integration of multiple foci\, and 6) extending the variety
  of qualities in your dancing and your ability to move easily and intentio
 nally between them.\n[1] Paraphrased from Steve Paxton.\n\n\n\n\n&nbsp\;\n
 \n\n\nTo book:\nContact Jocasta Crofts: mobile: 07875 151582\, email: joca
 sta@contactdance.co.uk\nPayment of £35 for the day\, to be made in advanc
 e.\n\n&nbsp\;\n\n* NB: this event follows a 5 day performance making inten
 sive 'Perceptions\, Presence\, and Performance' held by Jess\, in Bristol.
  The two events are separate. For information about the longer event\, ple
 ase check out http://www.jesscurtisgravity.org/pgs/calendar.html.\n\n&nbs
 p\;\nJess Curtis\n\nJess Curtis has created a body of work ranging from th
 e underground extremes of Mission District Warehouses with Contraband and 
 CORE (1985-1998) to the formal refinement and exuberance of European State
  Theaters and Circus Tents with Compagnie Cahin-Caha and Jess Curtis/Gravi
 ty (1998-present). Often working within a paradigm of collaboration and co
 -authorship\, he has also produced thoughtful and engaging work with a num
 ber of innovative artists including Maria Francesca Scaroni\, Jörg Mülle
 r\, Claire Cunningham and the FabrikCompanie in Potsdam\, Germany. He has 
 been commissioned to create works for companies such as Artblau in Germany
 \, ContactArt in Milan\, Italy\, Blue Eyed Soul Dance Company in England\,
  and Croi Glan Integrated Dance in Ireland. Recently awarded the prestigio
 us 2011 Alpert Award in the Arts for choreography\, Curtis and Gravity hav
 e received a total of six Isadora Duncan Dance awards and a Fringe First A
 ward at the Edinburgh Fringe Festival for fallen\, which went on to tour t
 o over 40 cities in 9 countries. Curtis teaches Dance\, Contact Improvisat
 ion\, and Interdisciplinary Performance throughout the US and Europe and h
 as been a visiting professor at UC Berkeley and the University of the Arts
  in Berlin. He holds an MFA in Choreography from UC Davis and is currently
  a Ph.D candidate in Performance Studies there\, focusing on embodiment an
 d performativity in movement-based performance. www.jesscurtisgravity.org\
 n\n&nbsp\;
ATTACH;FMTTYPE=image/jpeg:https://contactdance.co.uk/wp-content/uploads/20
 12/08/Curtis_0119.jpg
CATEGORIES:CI Workshop
LOCATION:Bristol Community Dance Centre\, Jacobs Wells Road\, Hotwells\, Br
 istol\, BS8 1DX\, United Kingdom
GEO:51.4526589;-2.609549300000026
X-APPLE-STRUCTURED-LOCATION;VALUE=URI;X-ADDRESS=Jacobs Wells Road\, Hotwell
 s\, Bristol\, BS8 1DX\, United Kingdom;X-APPLE-RADIUS=100;X-TITLE=Bristol 
 Community Dance Centre:geo:51.4526589,-2.609549300000026
END:VEVENT
BEGIN:VTIMEZONE
TZID:Europe/London
X-LIC-LOCATION:Europe/London
BEGIN:STANDARD
DTSTART:20121028T010000
TZOFFSETFROM:+0100
TZOFFSETTO:+0000
TZNAME:GMT
END:STANDARD
END:VTIMEZONE
END:VCALENDAR