BEGIN:VCALENDAR
VERSION:2.0
PRODID:-//wp-events-plugin.com//7.2.3.1//EN
TZID:Europe/London
X-WR-TIMEZONE:Europe/London
BEGIN:VEVENT
UID:1509@contactdance.co.uk
DTSTART;TZID=Europe/London:20140228T180000
DTEND;TZID=Europe/London:20140302T200000
DTSTAMP:20140122T225501Z
URL:https://contactdance.co.uk/events/london-national-jam/
SUMMARY:London National Jam - Siobhan Davies Studio - 28 Feb 14 18:00
DESCRIPTION:WEEKEND NATIONAL CONTACT IMPROVISATION JAM\nAT SIOBHAN DAVIES S
 TUDIOS\nSaturday 1st March (11.00–21.00) &amp\; Sunday 2nd March (11.00-
 20.00)\n\nPlus a Friday evening jam at Chisenhale Dance Space (18.00-21.00
 ) to welcome our Parisian guests\n\nBack by popular demand\, a weekend dev
 oted to dance and creative connection\, open to all interested in Contact 
 Improvisation. Come and join us for an evening and two full days of dancin
 g. There will be warm up classes (with Thomas Kampe and others TBC). There
  will be live music with Gianfranco Biasiol and David Leahy. We will dance
  an Underscore on Sunday afternoon. Please bring food to share. Beginners 
 are more than welcome.\n\nFurther details of the programme coming soon....
 \n\nSiobhan Davies Studios\, 85 St George's Road\, London\, SE1 6ER\, h
 ttp://www.siobhandavies.com/visit/\n\nChisenhale Dance Space\, 64 - 84 Ch
 isenhale Road\, London\, E3 5QZ\, http://www.chisenhaledancespace.co.uk/a
 bout/visit\n\n&nbsp\;\nCOST:\n\n	£35/£25conc JAM &amp\; FRIDAY\n	£30/£
 20conc WEEKEND (SAT &amp\; SUN) TICKET\n	£15/£10conc DAY TICKET\n	£7/£
 5conc FRIDAY JAM ONLY\n\n&nbsp\;\n\nTo book a place or for more info pleas
 e contact: robert@contactimprovisation.co.uk\, +44 (0)7814 790 757\n\nAc
 commodation help available for dancers from out of town.
ATTACH;FMTTYPE=image/jpeg:https://contactdance.co.uk/wp-content/uploads/20
 14/01/London-CI-jam.jpeg
CATEGORIES:UK CI Jam
LOCATION:Siobhan Davies Studio\,  85 St George's Road\, London\, SE1 6ER\, 
 United Kingdom
GEO:51.4960939;-0.10525099999995291
X-APPLE-STRUCTURED-LOCATION;VALUE=URI;X-ADDRESS= 85 St George's Road\, Lond
 on\, SE1 6ER\, United Kingdom;X-APPLE-RADIUS=100;X-TITLE=Siobhan Davies St
 udio:geo:51.4960939,-0.10525099999995291
END:VEVENT
BEGIN:VTIMEZONE
TZID:Europe/London
X-LIC-LOCATION:Europe/London
BEGIN:STANDARD
DTSTART:20131027T010000
TZOFFSETFROM:+0100
TZOFFSETTO:+0000
TZNAME:GMT
END:STANDARD
END:VTIMEZONE
END:VCALENDAR