BEGIN:VCALENDAR
VERSION:2.0
PRODID:-//wp-events-plugin.com//7.2.3.1//EN
TZID:Europe/London
X-WR-TIMEZONE:Europe/London
BEGIN:VEVENT
UID:1654@contactdance.co.uk
DTSTART;TZID=Europe/London:20141115T100000
DTEND;TZID=Europe/London:20141116T170000
DTSTAMP:20140927T101658Z
URL:https://contactdance.co.uk/events/malcolm-manning-workshop-in-bristol/
SUMMARY:Malcolm Manning Workshop in Bristol - Bristol Community Dance Centr
 e - 15 Nov 14 10:00
DESCRIPTION:Expanding into space : an investigation of spatial support\nSup
 port can come from orientation to space as well as from the earth. Spatial
  support brings lightness and expansiveness to dancing CI. It's the key to
  all the flying skills and a sense of freedom and independence in dancing 
 with another.In this workshop we’ll study the relationship between struc
 tural and spatial support\, bring what we learn from that into our practic
 e of CI technique\, and explore what this expanded awareness of space can 
 bring to open dancing together.\n\nMalcolm Manning : I think of myself as 
 a somatic movement researcher\, educator\, mentor and artist. In my classe
 s\, I share my inquiry of what it is to be a thinking\, feeling\, moving s
 ubject in this world through developing a dialogue with ourselves and our 
 environment in which we are empowered to be our own experts.\n\nI am certi
 fied to teach the Feldenkrais Method® and the Body And Earth work develop
 ed by Andrea Olsen and Caryn McHose. I studied for two years at SNDO Amste
 rdam and have an MA in Dance Pedagogy. I have also made extensive studies 
 of Contact Improvisation\, Authentic Movement\, Movement Shiatsu\, Body Mi
 nd Centering and experiential anatomy. For more info visit  www.movetole
 arn.com\n\n\n\nDetails\nDate: Saturday 15th and Sunday 16th November\nVenu
 e: The Dance Center Bristol\, Jacobs Wells Road\, Hotwells\, Bristol\, BS8
  1DX\nCost: £80 / £70 concs.\nBookings: To book please contact Jocasta o
 n -  deva-shanti@hotmail.com or 07875151582 / 0117 9255539
ATTACH;FMTTYPE=image/jpeg:https://contactdance.co.uk/wp-content/uploads/20
 14/09/Malcolm-Manning.jpeg
CATEGORIES:CI Workshop
LOCATION:Bristol Community Dance Centre\, Jacobs Wells Road\, Hotwells\, Br
 istol\, BS8 1DX\, United Kingdom
GEO:51.4526589;-2.609549300000026
X-APPLE-STRUCTURED-LOCATION;VALUE=URI;X-ADDRESS=Jacobs Wells Road\, Hotwell
 s\, Bristol\, BS8 1DX\, United Kingdom;X-APPLE-RADIUS=100;X-TITLE=Bristol 
 Community Dance Centre:geo:51.4526589,-2.609549300000026
END:VEVENT
BEGIN:VTIMEZONE
TZID:Europe/London
X-LIC-LOCATION:Europe/London
BEGIN:STANDARD
DTSTART:20141026T010000
TZOFFSETFROM:+0100
TZOFFSETTO:+0000
TZNAME:GMT
END:STANDARD
END:VTIMEZONE
END:VCALENDAR