BEGIN:VCALENDAR
VERSION:2.0
PRODID:-//wp-events-plugin.com//7.2.3.1//EN
TZID:Europe/London
X-WR-TIMEZONE:Europe/London
BEGIN:VEVENT
UID:1350@contactdance.co.uk
DTSTART;TZID=Europe/London:20131109T110000
DTEND;TZID=Europe/London:20131113T170000
DTSTAMP:20131004T121434Z
URL:https://contactdance.co.uk/events/martin-keogh-bristol-2013/
SUMMARY:Martin Keogh in Bristol\, 9-13th November - The Kingswood Foundatio
 n - 9 Nov 13 11:00
DESCRIPTION:Hi all\, we're excited to be inviting Martin Keogh to Bristol f
 or a 5-day intensive from the 9-13th November. This is an advanced level t
 raining for those with a strong grasp of Contact Improvisation fundamental
 s.\nGalactic Pelvis Global Awakening Tour\nJoin good company on the shores
  of Bristol for dancing and discovery. With somatic exercises\, games\, so
 me sweat\, and the unique physicality of the contact body we will savor an
 d rock the boundaries of our dances.\n\nIn this five-day intensive we will
  investigate the relationship of our pelvic floor to the unpremeditated da
 nce. Contact Improvisation reveals to us that instability leads to mobilit
 y … and great instability leads to exhilarating mobility.\n\nWe begin by
  decelerating our sense of time to enter the details of our pelvic bowl. F
 rom here we locate our ground to dance while in the act of falling. Surpri
 sing ourselves in flight and extended follow-through. And dance we will.\n
 \nThis is an advanced level training for those with a strong grasp of CI f
 undamentals.\nPrice\nThe cost of this 5-day intensive is £170 waged\, £1
 60 part-time/freelance\, £150 unwaged. A deposit of £50 (or the full amo
 unt) is needed to confirm your place.\n\nPrice does not include food or lo
 dging – for those participants traveling from afar\, we hope to host you
  with local dancers. You could also try airbnb.co.uk as an alternative\, a
 nd perhaps cheaper and nicer way\, to find a B&amp\;B.\n\nCancellations an
 d Refunds: The price includes a non-refundable registration fee of £10. F
 ull payment to be made 2 weeks prior to the start of the event. Cancellati
 ons made with at least 2 weeks notice will receive full refund less regist
 ration fee. Cancellations made with at least 1 weeks notice will receive f
 ull refund less deposit amount. If you cancel with less than a weeks notic
 e we will keep the full amount.\nContact\nTo book email: saskia@contactdan
 ce.co.uk\, giving a brief outline of your CI experience\, and stating if y
 ou need or can offer lifts and/or accommodation. You can also join the fac
 ebook event.\nTimings\n\n	Saturday 11am - 6m (with a 1-hour lunch break)\n
 	Sunday 10am - 5pm (with a 1-hour lunch break) * Please note that Bristol'
 s normal class &amp\; jam will happen from 5.30pm - 8.30pm\, a group of us
  will probably travel from Kinsgwood Estate to Hamilton House for this\n	M
 onday 10am - 1pm HALF DAY\n	Tuesday 10am - 5pm (with a 1-hour lunch break)
 \n	Wednesday 10am - 5pm (with a 1-hour lunch break)\n\n* timings may vary 
 slightly\nVenue\n\nThe Kingswood Estate\, Studio 1\n\n&nbsp\;\nMartin Keog
 h\n\nMartin Keogh has taught and performed contact improvisation for over
  three decades. For his contribution to the development of the form he is 
 a Fulbright Senior Specialist and listed in Who's Who in the World. Martin
  spent time traveling to monasteries in Japan and Korea and was the direct
 or of the Empty Gate Zen Center in Berkeley before discovering the world o
 f dance. He has co-facilitated teacher's conferences on five continents an
 d is the author several books including: Hope Beneath Our Feet: Restoring
  Our Place in the Natural World.\n\nMartin now rarely tours as he concentr
 ates on his writing. He currently lives in San Miguel\, Mexico where he is
  on the board of directors of El Charco del Ingenio. The Dalai Lama recent
 ly designated this conservation area a “Zone of Peace.” http://www.el
 charco.org.mx/Ingles/index.html\n\nMore info at: www.martinkeogh.com\n\
 n&nbsp\;\n\nDoesn't everything die at last\, and too soon?Tell me\, what i
 s it you plan to dowith your one wild and precious life?(Mary Oliver) 
ATTACH;FMTTYPE=image/jpeg:https://contactdance.co.uk/wp-content/uploads/20
 13/05/martin_rick.jpeg
CATEGORIES:CI Workshop
LOCATION:The Kingswood Foundation\, The Kingswood Estate\, 20 Old School Ho
 use\, Britannia road\, Bristol\, BS15 8DB\, United Kingdom
GEO:51.45870137137366;-2.516200375146468
X-APPLE-STRUCTURED-LOCATION;VALUE=URI;X-ADDRESS=The Kingswood Estate\, 20 O
 ld School House\, Britannia road\, Bristol\, BS15 8DB\, United Kingdom;X-A
 PPLE-RADIUS=100;X-TITLE=The Kingswood Foundation:geo:51.45870137137366,-2.
 516200375146468
END:VEVENT
BEGIN:VTIMEZONE
TZID:Europe/London
X-LIC-LOCATION:Europe/London
BEGIN:STANDARD
DTSTART:20131027T010000
TZOFFSETFROM:+0100
TZOFFSETTO:+0000
TZNAME:GMT
END:STANDARD
END:VTIMEZONE
END:VCALENDAR