BEGIN:VCALENDAR
VERSION:2.0
PRODID:-//wp-events-plugin.com//7.2.3.1//EN
TZID:Europe/London
X-WR-TIMEZONE:Europe/London
BEGIN:VEVENT
UID:2485@contactdance.co.uk
DTSTART;TZID=Europe/London:20220327T190000
DTEND;TZID=Europe/London:20220327T220000
DTSTAMP:20220313T170115Z
URL:https://contactdance.co.uk/events/monthly-class-jam-with-sam-bloomfeil
 d-informed-and-unformed-consent/
SUMMARY:Monthly Class/Jam with Sam Bloomfield: Informed and Unformed Consen
 t - St. Michael's Parish Hall - 27 Mar 22 19:00
DESCRIPTION:\nMonthly Class/Jam with Sam Bloomfeild: Informed and Unformed 
 Consent\nImprovised music by Simon Leach and Ian Popperwell\nWe would like
  to invite you to a workshop on Informed and unformed consent within CI\, 
 taught by Sam Bloomfield. The workshop will be followed by an open jam\nTh
 e workshop aims to examine how to create a culture of safety\, say yes and
  take positive risks within am experiential setting. Moving and being move
 d to dive into the multiplicity of beings\, voices and qualities that we a
 re. An informed consent process will take place around touch\, intention\,
  and impact. We aim to find silver linings to the pandemic and open to the
  past in the present\, co-creating an inclusive future.\nBiog:\nSam is an 
 experienced CI facilitator\, Dance Movement Psychotherapist\, body-worker 
 and founder of Natural Genius Ltd https://naturalgeniusltd.co.uk/about-us
  He has studied with many Bristol based teachers as well as working with 
 Nita Little one of the co-founders of CI.\nMisc:\nPlease wear clothes for 
 partner work and floor work: no jewellery\, watches\, necklaces\, earrings
  etc. Please arrive recently washed and feeling healthy \nTo book a space
 \, please make payment via bank transfer or paypal. See below for details:
 \nPrice: £18 abundant\, £14 incomed\, £12 supportive\nFor Jam only: £8
 \n7PM - 8.30PM: Class\n8.30PM - 10PM : Jam\nPaypal: bristolcontactjams@gma
 il.com\nFor bank transfer please email bristolcontactjams@gmail.com\nUse f
 riends and family when making payment. Ref: MJAM CI March\nThank you and l
 ook forward to seeing you dancing
ATTACH;FMTTYPE=image/jpeg:https://contactdance.co.uk/wp-content/uploads/20
 22/03/body-democracy.png
CATEGORIES:CI Class,CI Jam
LOCATION:St. Michael's Parish Hall\, Park Ln\, Bristol BS2 8BE\, Bristol\, 
 BS2 8BE\, United Kingdom
GEO:51.457;-2.59932
X-APPLE-STRUCTURED-LOCATION;VALUE=URI;X-ADDRESS=Park Ln\, Bristol BS2 8BE\,
  Bristol\, BS2 8BE\, United Kingdom;X-APPLE-RADIUS=100;X-TITLE=St. Michael
 's Parish Hall:geo:51.457,-2.59932
END:VEVENT
BEGIN:VTIMEZONE
TZID:Europe/London
X-LIC-LOCATION:Europe/London
BEGIN:DAYLIGHT
DTSTART:20220327T020000
TZOFFSETFROM:+0000
TZOFFSETTO:+0100
TZNAME:BST
END:DAYLIGHT
END:VTIMEZONE
END:VCALENDAR