BEGIN:VCALENDAR
VERSION:2.0
PRODID:-//wp-events-plugin.com//7.2.3.1//EN
TZID:Europe/London
X-WR-TIMEZONE:Europe/London
BEGIN:VEVENT
UID:2333@contactdance.co.uk
DTSTART;TZID=Europe/London:20180617T110000
DTEND;TZID=Europe/London:20180617T173000
DTSTAMP:20180529T210224Z
URL:https://contactdance.co.uk/events/moving-bodies-empty-spaces-exploring
 -freedom-through-dance-improvisation/
SUMMARY:Moving Bodies | Empty Spaces - Exploring Freedom through Dance Impr
 ovisation - St. Michael's Parish Hall - 17 Jun 18 11:00
DESCRIPTION:A workshop in dance improvisation focusing on the exploration o
 f freedom through practising the states of presence\, communication and es
 tablishing relationships. The work will include facilitated exercises wher
 e participants will develop the sensitivity to care for\, engage\, respect
  and respond to our own and our partners' bodies. The workshop will be fol
 lowed by EXHALACIÓN | AIRE artist's solo performance\, where through the 
 use of humour\, eye contact\, dialogue and proximity\, Kirstie will invite
  the audience to join her on a journey as she negotiates her way through p
 resent moment decision-making that is inherent in improvised performances.
  \nDate: 17 June 2018  11am – 5:30 pm\nVenue: St Michael's Parish Hall\,
  Old Park\, BRISTOL\,  BS2 8BE\nBookings: £40 paypal.me/danceimprov (when
  making payment please leave the "goods and services box" UNTICKED\, this 
 way we avoid paying 3.5% of your money to PayPal\; bare in mind this event
  is a not for profit affair and your contributions pay for teacher's fee a
 nd hall hire fee).\nQueries: Agni via agrenckowska@gmail.com
ATTACH;FMTTYPE=image/jpeg:https://contactdance.co.uk/wp-content/uploads/20
 18/05/kirstie.jpg
CATEGORIES:Other Workshop
LOCATION:St. Michael's Parish Hall\, Park Ln\, Bristol BS2 8BE\, Bristol\, 
 BS2 8BE\, United Kingdom
GEO:51.457;-2.59932
X-APPLE-STRUCTURED-LOCATION;VALUE=URI;X-ADDRESS=Park Ln\, Bristol BS2 8BE\,
  Bristol\, BS2 8BE\, United Kingdom;X-APPLE-RADIUS=100;X-TITLE=St. Michael
 's Parish Hall:geo:51.457,-2.59932
END:VEVENT
BEGIN:VTIMEZONE
TZID:Europe/London
X-LIC-LOCATION:Europe/London
BEGIN:DAYLIGHT
DTSTART:20180325T020000
TZOFFSETFROM:+0000
TZOFFSETTO:+0100
TZNAME:BST
END:DAYLIGHT
END:VTIMEZONE
END:VCALENDAR