BEGIN:VCALENDAR
VERSION:2.0
PRODID:-//wp-events-plugin.com//7.2.3.1//EN
TZID:Europe/London
X-WR-TIMEZONE:Europe/London
BEGIN:VEVENT
UID:2931@contactdance.co.uk
DTSTART;TZID=Europe/London:20260416T190000
DTEND;TZID=Europe/London:20260604T210000
DTSTAMP:20260330T091002Z
URL:https://contactdance.co.uk/events/moving-through-ci-class-and-jam/
SUMMARY:Moving Through - CI Class and Jam - St Werburghs Primary School - 1
 6 Apr 26 19:00
DESCRIPTION:\n\n8 Weeks course - Exploring contact through the lenses somat
 ic bodywork\, dynamic movement and floorwork\n\nThursdays 7-9pm.\n16th Apr
 il to 4th June 2026\n\n****\n\n7pm to 8pm class\n8pm to 9pm Jam\n\nThese c
 lasses/jams are suited for those with some baseline of CI (not a complete 
 beginner)\n\nTickets available for blocks (100%\, 50%) and drop in (jam or
  class)\n\n******\n\nThis series will be split into two types of classes\;
  'Moving inwards' and 'Moving outwards' running in alternative weeks.\n\nM
 OVING INWARD CLASSES:\nTheses classes are an invitation to slow down and a
 rrive in the body\, shifting the focus from doing to being in motion. By t
 uning into subtle physical sensations\, we will explore movement quality l
 ike melting and nesting\, learning to yield weight with ease and soften in
 to the spaces around us. Through deep somatic listening\, the dance will b
 ecome a quiet relational exploration\, where every point of contact is a c
 onversation. It is a process of discovery allowing the body to lead and th
 e movement to unfold.\n\nMOVING OUTWARDS CLASSES\nThis class is a high ene
 rgy dive into the mechanics of flight and the physics of the body in motio
 n . We move beyond the subtle to engage with momentum and dynamics using t
 he floor as a launch pad for locomotion and rolls that travel across the r
 oom. The focus is here on form and technique\, building the tonality and s
 tructural integrity needed to navigate inversions and effortless lifts\, i
 t is a deeply physical practice where we learn to channel force and weight
 \, transforming technical prescion into a fluid athletic dance.\n\nIn CI t
 hese concepts work togther with each other\, but we present them separatel
 y in order to dive deeper into each one. Even though inwards and outwards 
 can never truly be seperated.\n\n*******\n\nTwo discounted rates are avail
 able for helpers\, who would normally face a financial barrier for attenda
 nce. Helpers would be required to attend 100% of the classes / jams. Their
  role would only involve door duties\, at the start of class and at the ja
 m change over. Please contact us on movingthroughmovement@gmail.com\n\n***
 \n\n16th April - Class 1 Moving Inwards (Part A)\n23rd April - Class 2 Mov
 ing Outwards (Part A)\n30th April - Class 3 Moving Inwards (Part B)\n7th M
 ay - Class 4 Moving Outwards (Part B)\n14th May - Class 5 Moving Inwards (
 Part C)\n21st May - Class 6 Moving Outwards (Part C)\n28th May - Class 7 M
 oving Inwards (Part D)\n4th June - Class 8 Moving Outwards (Part D)\n\n***
 **\n\nTickets: https://www.headfirstbristol.co.uk/whats-on/st-werburghs-p
 rimary-school-james-street-bs2-9us-bristol/thu-16-apr-moving-through-ci-cl
 ass-and-jam-151428#e151428
ATTACH;FMTTYPE=image/jpeg:https://contactdance.co.uk/wp-content/uploads/20
 26/03/e151428_i324576_s4-1.jpg
CATEGORIES:CI Class,CI Jam
LOCATION:St Werburghs Primary School\, James Street\, Bristol\, BS2 9US\, U
 nited Kingdom
X-APPLE-STRUCTURED-LOCATION;VALUE=URI;X-ADDRESS=James Street\, Bristol\, BS
 2 9US\, United Kingdom;X-APPLE-RADIUS=100;X-TITLE=St Werburghs Primary Sch
 ool:geo:0,0
END:VEVENT
BEGIN:VTIMEZONE
TZID:Europe/London
X-LIC-LOCATION:Europe/London
BEGIN:DAYLIGHT
DTSTART:20260329T020000
TZOFFSETFROM:+0000
TZOFFSETTO:+0100
TZNAME:BST
END:DAYLIGHT
END:VTIMEZONE
END:VCALENDAR