BEGIN:VCALENDAR
VERSION:2.0
PRODID:-//wp-events-plugin.com//7.2.3.1//EN
TZID:Europe/London
X-WR-TIMEZONE:Europe/London
BEGIN:VEVENT
UID:1002@contactdance.co.uk
DTSTART;TZID=Europe/London:20121007T100000
DTEND;TZID=Europe/London:20121007T163000
DTSTAMP:20120904T173426Z
URL:https://contactdance.co.uk/events/music-making-contact/
SUMMARY:Music Making Contact - St. Michael's Parish Hall - 7 Oct 12 10:00
DESCRIPTION:Bristol Contact Improvisation 'Music making Contact'\nled by Da
 vid Leahy\nco-ordinated by Lisa May Thomas and Saskia Chaplin\nSunday Octo
 ber 7th\, 10am - 4.30pm\, just £15 for the day\n\n\nA workshop based on e
 xploring the connection between music and movement\, and\, in particular\,
  improvised movement styles such as Contact improvisation. Open to both mo
 vers and music makers at any level\, we research together what works and w
 hat doesn’t when collaborating across artforms. Identifying our various 
 needs and finding possible ways towards clearer communications and better 
 collaborative experiences.\n\nTrained as a professional double bass player
 \, David has over the years extended his improvisation practice to include
  dance. His performance practice is now equally divided between the two ar
 tforms and he has worked with dancers such as Frey Faust\, Nancy Stark-Smi
 th\, Geraldo Si and Claire Filmon\, and musicians such as Evan Parker\, To
 ny Marsh\, Tony Kofi\, Roland Sutherland and Mike Vargas. Check out his we
 bsite www.dafmusic.com.\n\nFor more information and to book\, please email
  saskia@contactdance.co.uk.\n\n\n&nbsp\;\n\n&nbsp\;
ATTACH;FMTTYPE=image/jpeg:https://contactdance.co.uk/wp-content/uploads/20
 12/08/David-Leahy.jpg
CATEGORIES:CI Workshop
LOCATION:St. Michael's Parish Hall\, Park Ln\, Bristol BS2 8BE\, Bristol\, 
 BS2 8BE\, United Kingdom
GEO:51.457;-2.59932
X-APPLE-STRUCTURED-LOCATION;VALUE=URI;X-ADDRESS=Park Ln\, Bristol BS2 8BE\,
  Bristol\, BS2 8BE\, United Kingdom;X-APPLE-RADIUS=100;X-TITLE=St. Michael
 's Parish Hall:geo:51.457,-2.59932
END:VEVENT
BEGIN:VTIMEZONE
TZID:Europe/London
X-LIC-LOCATION:Europe/London
BEGIN:DAYLIGHT
DTSTART:20120325T020000
TZOFFSETFROM:+0000
TZOFFSETTO:+0100
TZNAME:BST
END:DAYLIGHT
END:VTIMEZONE
END:VCALENDAR