BEGIN:VCALENDAR
VERSION:2.0
PRODID:-//wp-events-plugin.com//7.2.3.1//EN
TZID:Europe/London
X-WR-TIMEZONE:Europe/London
BEGIN:VEVENT
UID:2557@contactdance.co.uk
DTSTART;TZID=Europe/London:20230101T160000
DTEND;TZID=Europe/London:20230101T210000
DTSTAMP:20221220T111636Z
URL:https://contactdance.co.uk/events/new-year-portal-dance/
SUMMARY:New Year Portal Dance - BlackBird/RedRose Studios - 1 Jan 23 16:00
DESCRIPTION:\n\n\nhttps://www.tickettailor.com/events/fromecontactimprovisa
 tion/820212\n\nOn New Year's Day 2023 we will move together! And have snac
 ks!\nContact Improvisation will be very much part of the space.\nBut you'r
 e also welcome to join if you prefer to move solo.\nWitnessing others in t
 he contact dance is also welcome and encouraged.\nThis is a space to move 
 however you feel.\nThe vision of Portal Dance is to expand the space beyon
 d the realms of a typical CI jam.\nThere will be a wider musical journey t
 han your average jam.\nWe will start of slow and subtle\, but the beats wi
 ll get stronger\, deeper and darker as the wave continues...\nFor an examp
 le of a possible musical flow: dance playlist\nWe will have plenty of tea\
 , plus optional snacks to buy including Roar Energy balls\, New Year Green
  Juice and an evening stew dinner for those who want it.\nWe are also goin
 g to set up an arts space for those inspired creatively to paint/draw some
 thing or add to the collective jam painting. Take inspiration from the dan
 cers and see what happens....\nThere may be other surprises such as guest 
 musicians and maybe your favourite dancer will show up.\n\nSchedule:\n16:0
 0-16:45 - Arrivals/tea/open movement/jam space\n16:45-17:00 - Opening circ
 le\n17:00-17:30 - Contact Improvisation led warm-up (you are welcome to wa
 tch\, move solo or drink tea if you don't want to join in\n17:30-19:30 - D
 ance Jam Journey\n19:30-20:30 - Hang out\, drink tea\, optional hearty new
  year stew\n20:30-21:00 - On your way merry folk! Go out and have a fabulo
 us year!\n...\nDance as a psychedelic act. To make the soul visible.\nAnci
 ent Greek ψυχή (psukhḗ\, “mind\, soul”) + δῆλος (dêlos\, 
 “manifest\, visible”)\n"producing expanded consciousness through heigh
 tened awareness and feeling\,"\n...\nPlease get in touch with any enquires
 .\nIf cost is a barrier please contact fromecontact(at)gmail.com.\nRefunds
  will be offered up until the event sells out.\nOnce sold out\, refunds wi
 ll not be given but you are welcome to transfer your ticket to another per
 son\, just let us know who.\n...\nPhoto by Ian Douglas\nLOCATION\nMark Bru
 ce Company\, Frome\, BA11 3DT\n\n
ATTACH;FMTTYPE=image/jpeg:https://contactdance.co.uk/wp-content/uploads/20
 22/12/jumping.jpg
CATEGORIES:CI Jam
LOCATION:BlackBird/RedRose Studios\, BlackBird/RedRose Studios\, Unit G\, V
 allis Mills Trading Estate\, Robins Ln\, Frome\, BA11 3DT\, United Kingdom
X-APPLE-STRUCTURED-LOCATION;VALUE=URI;X-ADDRESS=BlackBird/RedRose Studios\,
  Unit G\, Vallis Mills Trading Estate\, Robins Ln\, Frome\, BA11 3DT\, Uni
 ted Kingdom;X-APPLE-RADIUS=100;X-TITLE=BlackBird/RedRose Studios:geo:0,0
END:VEVENT
BEGIN:VTIMEZONE
TZID:Europe/London
X-LIC-LOCATION:Europe/London
BEGIN:STANDARD
DTSTART:20221030T010000
TZOFFSETFROM:+0100
TZOFFSETTO:+0000
TZNAME:GMT
END:STANDARD
END:VTIMEZONE
END:VCALENDAR