BEGIN:VCALENDAR
VERSION:2.0
PRODID:-//wp-events-plugin.com//7.2.3.1//EN
TZID:Europe/London
X-WR-TIMEZONE:Europe/London
BEGIN:VEVENT
UID:2489@contactdance.co.uk
DTSTART;TZID=Europe/London:20220410T171500
DTEND;TZID=Europe/London:20220410T201500
DTSTAMP:20220329T092231Z
URL:https://contactdance.co.uk/events/non-class-ci-research-lab-ci-jam/
SUMMARY:Non Class : CI Research Lab + CI Jam - St Werburghs Community Centr
 e - 10 Apr 22 17:15
DESCRIPTION:\nNon-Class (17:15-19:15)\nThis session is for dancers and move
 rs interested in deepening their CI practice. It aims to encourage self-di
 rected learning. You are facilitated to drop into your curiosity\, be open
  to what arises\, and carve out your own specific questions of interest 
 – solo and collectively.\nThe framework will be loose and held by a faci
 litator who will encourage students to research areas of their choosing\, 
 that have either been brought to the session or arisen within the space. T
 he facilitator will utilise moving\, speaking/vocalising witnessing\, shar
 ing and supporting tools to create an environment for exploration. There w
 ill be time for solo and group contemplation to formulate an area of inter
 est before detailed research can begin.\nClosing of the session will inclu
 de smaller harvest circles between dancers or if time is allowed a present
 ation to the group.\nLevel: You should have a base-line of Contact Improvi
 sation experience and/or other movement practice. This is to ensure that y
 ou and all dancers will be able to be responsible for your own safety and 
 learning\, as it is not a class. If you have any questions\, do email us!\
 nDrop-in Jam (19:15-20:15)\nThe last section of the event will open out in
 to a drop-in jam for all. Dancers can further explore their research or ju
 st enjoy a dance with others! You can also drop-in to the jam if you haven
 't attended the research session.\nPlease arrive in time to start together
  for Non-Class promptly! We have time to close the jam and leave the space
  by 20:30\nPlease book in advance to secure a spot.\nNon-Class + Jam: £12
 \nDrop-in Jam: £4\nBooking can be made by making payment via:\nPaypal: br
 istolcontactresearch@gmail.com\nPlease select payment to "friends and fami
 ly" use the reference CI Lab APR\nIf you prefer to use bank transfer pleas
 e email us and we will send you the correct bank details - please note the
 se details are different from other Bristol CI events)\nContact us on bris
 tolcontactresearch@gmail.com for any questions\nTo keep everyone safe\, pl
 ease take a Lateral Flow Test before coming.\nLocation: St Werburghs Commu
 nity Centre\nPhoto Julia Bernstein
CATEGORIES:CI Class,CI Jam
LOCATION:St Werburghs Community Centre\, Horley Road\, Bristol\, BS2 9TJ\, 
 United Kingdom
X-APPLE-STRUCTURED-LOCATION;VALUE=URI;X-ADDRESS=Horley Road\, Bristol\, BS2
  9TJ\, United Kingdom;X-APPLE-RADIUS=100;X-TITLE=St Werburghs Community Ce
 ntre:geo:0,0
END:VEVENT
BEGIN:VTIMEZONE
TZID:Europe/London
X-LIC-LOCATION:Europe/London
BEGIN:DAYLIGHT
DTSTART:20220327T020000
TZOFFSETFROM:+0000
TZOFFSETTO:+0100
TZNAME:BST
END:DAYLIGHT
END:VTIMEZONE
END:VCALENDAR