BEGIN:VCALENDAR
VERSION:2.0
PRODID:-//wp-events-plugin.com//7.2.3.1//EN
TZID:Europe/London
X-WR-TIMEZONE:Europe/London
BEGIN:VEVENT
UID:2443@contactdance.co.uk
DTSTART;TZID=Europe/London:20190901T170000
DTEND;TZID=Europe/London:20190901T200000
DTSTAMP:20190830T142610Z
URL:https://contactdance.co.uk/events/outdoor-ci-jam-3/
SUMMARY:Outdoor CI Jam - Brandon Hill Park - 1 Sep 19 17:00
DESCRIPTION:Informal CI jam at the lower end of Brandon Hill park  Sunday 
 1st September 5-8pm. All dancers welcome. 07947 236642 if you can't find
  us.\n\n
CATEGORIES:CI Jam
LOCATION:Brandon Hill Park\, Park St\, Bristol\, United Kingdom
GEO:51.453965923513046;-2.606924734423842
X-APPLE-STRUCTURED-LOCATION;VALUE=URI;X-ADDRESS=Park St\, Bristol\, United 
 Kingdom;X-APPLE-RADIUS=100;X-TITLE=Brandon Hill Park:geo:51.45396592351304
 6,-2.606924734423842
END:VEVENT
BEGIN:VTIMEZONE
TZID:Europe/London
X-LIC-LOCATION:Europe/London
BEGIN:DAYLIGHT
DTSTART:20190331T020000
TZOFFSETFROM:+0000
TZOFFSETTO:+0100
TZNAME:BST
END:DAYLIGHT
END:VTIMEZONE
END:VCALENDAR