BEGIN:VCALENDAR
VERSION:2.0
PRODID:-//wp-events-plugin.com//7.2.3.1//EN
TZID:Europe/London
X-WR-TIMEZONE:Europe/London
BEGIN:VEVENT
UID:2424@contactdance.co.uk
DTSTART;TZID=Europe/London:20190728T170000
DTEND;TZID=Europe/London:20190728T200000
DTSTAMP:20190726T233430Z
URL:https://contactdance.co.uk/events/outdoor-ci-jam/
SUMMARY:Outdoor CI Jam - Brandon Hill Park - 28 Jul 19 17:00
DESCRIPTION:\n\nIf it isn't raining there'll be an outdoor CI jam in Brando
 n Hill Park. Lower end near Jacob's Wells Road. Phone 07947 236642 if you 
 can't find it.\n\nAll dancers welcome\, whatever level of CI experience.
CATEGORIES:CI Jam
LOCATION:Brandon Hill Park\, Park St\, Bristol\, United Kingdom
GEO:51.453965923513046;-2.606924734423842
X-APPLE-STRUCTURED-LOCATION;VALUE=URI;X-ADDRESS=Park St\, Bristol\, United 
 Kingdom;X-APPLE-RADIUS=100;X-TITLE=Brandon Hill Park:geo:51.45396592351304
 6,-2.606924734423842
END:VEVENT
BEGIN:VTIMEZONE
TZID:Europe/London
X-LIC-LOCATION:Europe/London
BEGIN:DAYLIGHT
DTSTART:20190331T020000
TZOFFSETFROM:+0000
TZOFFSETTO:+0100
TZNAME:BST
END:DAYLIGHT
END:VTIMEZONE
END:VCALENDAR