BEGIN:VCALENDAR
VERSION:2.0
PRODID:-//wp-events-plugin.com//7.2.3.1//EN
TZID:Europe/London
X-WR-TIMEZONE:Europe/London
BEGIN:VEVENT
UID:2504@contactdance.co.uk
DTSTART;TZID=Europe/London:20220723T140000
DTEND;TZID=Europe/London:20220723T160000
DTSTAMP:20220721T220350Z
URL:https://contactdance.co.uk/events/outdoor-contact-improv-jam/
SUMMARY:Outdoor Contact Improv Jam - The Old Bowling Green\, Brandon Hill P
 ark - 23 Jul 22 14:00
DESCRIPTION:\nAnother outdoor contact improvisation jam. Let's play outside
  while the weather is fine! Everyone welcome\, whatever level of experienc
 e.\nThe venue is here https://goo.gl/maps/QMEx5Xo4R9JBjNnHA\nRing 07947 2
 36642 if you can't find it.
ATTACH;FMTTYPE=image/jpeg:https://contactdance.co.uk/wp-content/uploads/20
 22/07/brandon-6-2018_07_12-19_30_18-UTC.jpg
CATEGORIES:CI Jam
LOCATION:The Old Bowling Green\, Brandon Hill Park\, Park Street\, Bristol\
 , BS1 5RR\, United Kingdom
GEO:51.453750252491126;-2.6075588106200485
X-APPLE-STRUCTURED-LOCATION;VALUE=URI;X-ADDRESS=Park Street\, Bristol\, BS1
  5RR\, United Kingdom;X-APPLE-RADIUS=100;X-TITLE=The Old Bowling Green\, B
 randon Hill Park:geo:51.453750252491126,-2.6075588106200485
END:VEVENT
BEGIN:VTIMEZONE
TZID:Europe/London
X-LIC-LOCATION:Europe/London
BEGIN:DAYLIGHT
DTSTART:20220327T020000
TZOFFSETFROM:+0000
TZOFFSETTO:+0100
TZNAME:BST
END:DAYLIGHT
END:VTIMEZONE
END:VCALENDAR