BEGIN:VCALENDAR
VERSION:2.0
PRODID:-//wp-events-plugin.com//7.2.3.1//EN
TZID:Europe/London
X-WR-TIMEZONE:Europe/London
BEGIN:VEVENT
UID:2334@contactdance.co.uk
DTSTART;TZID=Europe/London:20180715T180000
DTEND;TZID=Europe/London:20180715T210000
DTSTAMP:20180711T105856Z
URL:https://contactdance.co.uk/events/outdoor-contact-improvisation-jam-3/
SUMMARY:Outdoor Contact Improvisation Jam! - Brandon Hill Park - 15 Jul 18 
 18:00
DESCRIPTION:\n\nOutdoor jam on the Jacobs Wells Road side of Brandon Hill P
 ark. If you're not into football it is a perfect way to get away from post
  world cup final frenzy. If you love football it is a perfect way to somat
 ically process your post match emotions :)\nPerfect for everyone really!\n
 Call Simon on 07947 236642 if you turn up and can find the dancing.
CATEGORIES:CI Jam
LOCATION:Brandon Hill Park\, Park St\, Bristol\, United Kingdom
GEO:51.453965923513046;-2.606924734423842
X-APPLE-STRUCTURED-LOCATION;VALUE=URI;X-ADDRESS=Park St\, Bristol\, United 
 Kingdom;X-APPLE-RADIUS=100;X-TITLE=Brandon Hill Park:geo:51.45396592351304
 6,-2.606924734423842
END:VEVENT
BEGIN:VTIMEZONE
TZID:Europe/London
X-LIC-LOCATION:Europe/London
BEGIN:DAYLIGHT
DTSTART:20180325T020000
TZOFFSETFROM:+0000
TZOFFSETTO:+0100
TZNAME:BST
END:DAYLIGHT
END:VTIMEZONE
END:VCALENDAR