BEGIN:VCALENDAR
VERSION:2.0
PRODID:-//wp-events-plugin.com//7.2.3.1//EN
TZID:Europe/London
X-WR-TIMEZONE:Europe/London
BEGIN:VEVENT
UID:2023@contactdance.co.uk
DTSTART;TZID=Europe/London:20160703T180000
DTEND;TZID=Europe/London:20160703T203000
DTSTAMP:20160701T195655Z
URL:https://contactdance.co.uk/events/outdoor-contact-improvisation-jam/
SUMMARY:Outdoor Contact Improvisation Jam - The Old Bowling Green\, Brandon
  Hill Park - 3 Jul 16 18:00
DESCRIPTION:\n\nAn outdoor contact improvisation jam in "The Old Bowling Gr
 een"\, Brandon Hill Park\, off Park Street.\nInspired by the possibility o
 f some sunshine and no jam at Hamilton House until September\, we are prop
 osing an outdoor jam Sunday evening as long as it's not chucking it down. 
 Come and dance!\n\n&nbsp\;
CATEGORIES:CI Jam
LOCATION:The Old Bowling Green\, Brandon Hill Park\, Park Street\, Bristol\
 , BS1 5RR\, United Kingdom
GEO:51.453750252491126;-2.6075588106200485
X-APPLE-STRUCTURED-LOCATION;VALUE=URI;X-ADDRESS=Park Street\, Bristol\, BS1
  5RR\, United Kingdom;X-APPLE-RADIUS=100;X-TITLE=The Old Bowling Green\, B
 randon Hill Park:geo:51.453750252491126,-2.6075588106200485
END:VEVENT
BEGIN:VTIMEZONE
TZID:Europe/London
X-LIC-LOCATION:Europe/London
BEGIN:DAYLIGHT
DTSTART:20160327T020000
TZOFFSETFROM:+0000
TZOFFSETTO:+0100
TZNAME:BST
END:DAYLIGHT
END:VTIMEZONE
END:VCALENDAR