BEGIN:VCALENDAR
VERSION:2.0
PRODID:-//wp-events-plugin.com//7.2.3.1//EN
TZID:Europe/London
X-WR-TIMEZONE:Europe/London
BEGIN:VEVENT
UID:2024@contactdance.co.uk
DTSTART;TZID=Europe/London:20160710T180000
DTEND;TZID=Europe/London:20160710T203000
DTSTAMP:20160708T180125Z
URL:https://contactdance.co.uk/events/outdoor-contact-jam/
SUMMARY:Outdoor Contact Jam - Brandon Hill Park - 10 Jul 16 18:00
DESCRIPTION:\n\nThere are no Sunday night contact jams at Hamilton House un
 til September......\nHowever\, last week we had a fantastic outdoor jam w
 ith loads of dancers doing their thing\, so if it isn't raining there will
  be another contact jam in Brandon Hill Park on the evening of Sunday 10th
  July at 6pm. We found a good spot on a flattish bit of grass below the t
 ower looking out towards Jacob's Well Road. We'll gather there and then we
  can choose if we want to go to the really flat Old Bowling Green or not. 
 Come and dance!\n\n&nbsp\;
CATEGORIES:CI Jam
LOCATION:Brandon Hill Park\, Park St\, Bristol\, United Kingdom
GEO:51.453965923513046;-2.606924734423842
X-APPLE-STRUCTURED-LOCATION;VALUE=URI;X-ADDRESS=Park St\, Bristol\, United 
 Kingdom;X-APPLE-RADIUS=100;X-TITLE=Brandon Hill Park:geo:51.45396592351304
 6,-2.606924734423842
END:VEVENT
BEGIN:VTIMEZONE
TZID:Europe/London
X-LIC-LOCATION:Europe/London
BEGIN:DAYLIGHT
DTSTART:20160327T020000
TZOFFSETFROM:+0000
TZOFFSETTO:+0100
TZNAME:BST
END:DAYLIGHT
END:VTIMEZONE
END:VCALENDAR