BEGIN:VCALENDAR
VERSION:2.0
PRODID:-//wp-events-plugin.com//7.2.3.1//EN
TZID:Europe/London
X-WR-TIMEZONE:Europe/London
BEGIN:VEVENT
UID:1098@contactdance.co.uk
DTSTART;TZID=Europe/London:20121120T103000
DTEND;TZID=Europe/London:20121124T173000
DTSTAMP:20120923T205751Z
URL:https://contactdance.co.uk/events/perception-presence-and-performance-
 5-day-intensive-with-jess-curtis/
SUMMARY:Perception\, Presence and Performance: 5 Day intensive with Jess Cu
 rtis - The Dance Space - 20 Nov 12 10:30
DESCRIPTION:This course will be an embodied exploration of cycles and scale
 s of sensing\, observing\, and consequential action in physical practice. 
 Working from the cellular to the global\, we will examine how we sense eac
 h other\, take action and make meaning while we move. We will give particu
 lar attention to the tension between the concepts of presence and performa
 nce as lenses through which to observe/view/feel/listen-to/activate the bo
 dy.\n\nWe will “spend” time shifting our awareness to a more cyclical 
 time state\, unencumbered by desires and goals and we will “take” time
  observing ourselves and each other\, thoughtfully examining the consequen
 ces of our actions. We will examine the physical actualities of touch\, ma
 nipulation\, counterbalance\, force\, resistance\, and surrender\, both as
  physical states and as meaningful expressions of interpersonal and interc
 ultural relations. Bring curiosity\, a desire to dance and a willingness t
 o be seen.\nTo Book\nTo book or for more information about accommodation a
 nd travel contact: noel_perkins@yahoo.co.uk or 07816603937\n\nThis intensi
 ve will be followed by a one day Contact Improvisation workshop on Sunday 
 25th November. For more info and booking\, contactdance.co.uk/events/jess-
 curtis-25-12/\nJess Curtis\nJess Curtis has created a body of work ranging
  from the underground extremes of Mission District Warehouses with Contrab
 and and CORE (1985-1998) to the formal refinement and exuberance of Europe
 an State Theaters and Circus Tents with Compagnie Cahin-Caha and Jess Curt
 is/Gravity (1998-present). Often working within a paradigm of collaboratio
 n and co-authorship\, he has also produced thoughtful and engaging work wi
 th a number of innovative artists including Maria Francesca Scaroni\, Jör
 g Müller\, Claire Cunningham and the FabrikCompanie in Potsdam\, Germany.
  He has been commissioned to create works for companies such as Artblau in
  Germany\, ContactArt in Milan\, Italy\, Blue Eyed Soul Dance Company in E
 ngland\, and Croi Glan Integrated Dance in Ireland. Recently awarded the p
 restigious 2011 Alpert Award in the Arts for choreography\, Curtis and Gra
 vity have received a total of six Isadora Duncan Dance awards and a Fringe
  First Award at the Edinburgh Fringe Festival for fallen\, which went on t
 o tour to over 40 cities in 9 countries. Curtis teaches Dance\, Contact Im
 provisation\, and Interdisciplinary Performance throughout the US and Euro
 pe and has been a visiting professor at UC Berkeley and the University of 
 the Arts in Berlin. He holds an MFA in Choreography from UC Davis and is c
 urrently pursuing a PhD in Performance Studies there.
CATEGORIES:Other Workshop
LOCATION:The Dance Space\, The Island\, Silver Street\, Bristol\, BS1 2PY\,
  United Kingdom
GEO:51.4571;-2.59226
X-APPLE-STRUCTURED-LOCATION;VALUE=URI;X-ADDRESS=The Island\, Silver Street\
 , Bristol\, BS1 2PY\, United Kingdom;X-APPLE-RADIUS=100;X-TITLE=The Dance 
 Space:geo:51.4571,-2.59226
END:VEVENT
BEGIN:VTIMEZONE
TZID:Europe/London
X-LIC-LOCATION:Europe/London
BEGIN:STANDARD
DTSTART:20121028T010000
TZOFFSETFROM:+0100
TZOFFSETTO:+0000
TZNAME:GMT
END:STANDARD
END:VTIMEZONE
END:VCALENDAR