BEGIN:VCALENDAR
VERSION:2.0
PRODID:-//wp-events-plugin.com//7.2.3.1//EN
TZID:Europe/London
X-WR-TIMEZONE:Europe/London
BEGIN:VEVENT
UID:2288@contactdance.co.uk
DTSTART;TZID=Europe/London;VALUE=DATE:20170920
DTEND;TZID=Europe/London;VALUE=DATE:20170925
DTSTAMP:20170817T204852Z
URL:https://contactdance.co.uk/events/rewilding-attention-becoming-feral-w
 ith-nita-little/
SUMMARY:“ReWilding Attention: Becoming Feral” with Nita Little - Abercy
 ch Village Hall - 20 Sep 17 00:00
DESCRIPTION:\n\nPhoto by\nDenis Timinski\n\n'ReWilding Attention: Becoming 
 Feral' with Nita Little\n\n\n\n(Feral: A return to the wild state after a 
 prolonged period of domestication)What are the limits of our ability to be
  physically alive\, to connect\, and to commune with one another? Commune 
 with our environments?\n\nDancing Contact Improvisation and dance ensemble
  improvisation\, this workshop develops states of embodiment that support 
 communion. This process will begin deep within our physicality as we seek 
 to understand how we communicate through our own anatomical structures. Wi
 th this understanding\, we extend outwardly into duets\, trios\, and ensem
 bles. Our work is to rethink our embodiment\, challenge our cultural assum
 ptions\, and find new answers to how we communicate as physical beings. We
  develop states of being that heighten our felt sense so that even walking
  down a street we are alive with communication. Ready to meet one another 
 and our worlds\, we understand the creativity implicit in play. Our goal i
 s to shake off the limits of our domestication and become more instinctual
 \, more intuitive\, more specific and clear in our actions\, and more aliv
 e in our presence with one another and our worlds.\n\n5 day intensive work
 shop (non-residential)\, 30 hours of classes and a lot of opportunity for 
 group discussions. Set in a beautiful part of Wales.\n\n20th - 24th Septem
 ber 2017\nWednesday 20th September starting at 2 pm\nSunday 24th September
  finishing at 5 pm\n£285.00 Full Price\nOption of payment in 3 installmen
 ts.\n\nAbercych Village Hall\, Abercych\, Boncath\, Pembrokeshire\, SA37 0
 EZ\n\nContact us: gronaus@yahoo.com.br\nmobile: 00 44 7780855165\n\nFacebo
 ok Event: https://www.facebook.com/events/1343544255734291\n\nThe deadline
  for booking is September 15th.\n\n\n&nbsp\;\n\n&nbsp\;
CATEGORIES:CI Workshop
LOCATION:Abercych Village Hall\, Abercych\, Boncath\, SA37 0EZ\, Pembrokesh
 ire\, United Kingdom
GEO:52.0372263;-4.553675500000054
X-APPLE-STRUCTURED-LOCATION;VALUE=URI;X-ADDRESS=Abercych\, Boncath\, SA37 0
 EZ\, Pembrokeshire\, United Kingdom;X-APPLE-RADIUS=100;X-TITLE=Abercych Vi
 llage Hall:geo:52.0372263,-4.553675500000054
END:VEVENT
BEGIN:VTIMEZONE
TZID:Europe/London
X-LIC-LOCATION:Europe/London
BEGIN:DAYLIGHT
DTSTART:20170326T020000
TZOFFSETFROM:+0000
TZOFFSETTO:+0100
TZNAME:BST
END:DAYLIGHT
END:VTIMEZONE
END:VCALENDAR