BEGIN:VCALENDAR
VERSION:2.0
PRODID:-//wp-events-plugin.com//7.2.3.1//EN
TZID:Europe/London
X-WR-TIMEZONE:Europe/London
BEGIN:VEVENT
UID:1685@contactdance.co.uk
DTSTART;TZID=Europe/London:20141213T110000
DTEND;TZID=Europe/London:20141213T170000
DTSTAMP:20141209T181047Z
URL:https://contactdance.co.uk/events/saturday-13th-dec-ci-workshop-with-t
 ara-brandel-in-stroud/
SUMMARY:Saturday 13th Dec CI workshop with Tara Brandel in Stroud - The Old
  Endowed School\, Walkley Hill\, Stroud\, Gloucestershire - 13 Dec 14 11:0
 0
DESCRIPTION:\n\n&nbsp\;\n\n\n\n\n\n\n\n\n\n\n\n\n\n\n\n\n\nA day long Conta
 ct Improvisation workshop\nwith Tara Brandel\nSaturday 13th December 11am-
 5pm.\n@ 'The Old Endowed School'\nWalkley Hill\,\nStroud\,\nGloucestershir
 e.\n\n"Focusing on sensation to find new ways into lifts\, rides and airbo
 rne dancing.\nWe will build up our responsiveness to and awareness of touc
 h and weight to lead us beyond the mechanics of dancing. Where am I? Where
  is the dance? How can I respond to the dance now and now and now?\nWorkin
 g with the idea of 'velcro contact' we will play with hands free dancing\,
  will free dancing and effort free dancing.\nWhere does the dance go when 
 I am no longer leading?"\n\nTara Brandel is a contemporary dancer\, choreo
 grapher and CI teacher\, and currently artistic Director of Croi Glan\, an
  Integrated Dance company in Ireland (croiglan.com).\nShe trained in conte
 mporary dance at the Laban Centre\, and trained in CI with Steve Paxton\, 
 Juleyn Hamilton and Kirstie Simpson. She has danced for Ka Rustler\, Feri 
 de Gues\, Jess Curtis\, and Emilyn Claid\, among others\, and has taught C
 ontact Improvisation at Tanz Fabrik\, Ponderosa\, Seattle Festival of Danc
 e and Improvisation (SFADI)\, West Coast Contact Festival (San Francisco)\
 , GLACIER (USA)\, Liverpool Performing Arts School (LIPA) and Chisenhale D
 ance Space amongst others.\n\nMost recently she has taught contact worksho
 ps in Melbourne\, Sydney and Toronto\, and also teaches ongoing contact cl
 asses in West Cork Ireland where she lives.\n\n£30 waged\n£25 unwaged/lo
 w wage\n\nFor more information or to Book contact:\nNatasha 07944780874\nk
 aayathai@gmail.com\n\n\n\n\n\n\n\n\n\n\n\n\n\n\n\n\n\n&nbsp\;
CATEGORIES:CI Workshop
LOCATION:The Old Endowed School\, Walkley Hill\, Stroud\, Gloucestershire\,
   Walkley Hill\, Stroud\, Gloucestershire\, United Kingdom
GEO:51.737949;-2.2284332000000404
X-APPLE-STRUCTURED-LOCATION;VALUE=URI;X-ADDRESS= Walkley Hill\, Stroud\, Gl
 oucestershire\, United Kingdom;X-APPLE-RADIUS=100;X-TITLE=The Old Endowed 
 School\, Walkley Hill\, Stroud\, Gloucestershire:geo:51.737949,-2.22843320
 00000404
END:VEVENT
BEGIN:VTIMEZONE
TZID:Europe/London
X-LIC-LOCATION:Europe/London
BEGIN:STANDARD
DTSTART:20141026T010000
TZOFFSETFROM:+0100
TZOFFSETTO:+0000
TZNAME:GMT
END:STANDARD
END:VTIMEZONE
END:VCALENDAR