BEGIN:VCALENDAR
VERSION:2.0
PRODID:-//wp-events-plugin.com//7.2.3.1//EN
TZID:Europe/London
X-WR-TIMEZONE:Europe/London
BEGIN:VEVENT
UID:1646@contactdance.co.uk
DTSTART;TZID=Europe/London:20140903T190000
DTEND;TZID=Europe/London:20140903T210000
DTSTAMP:20140828T204129Z
URL:https://contactdance.co.uk/events/series-for-the-spine/
SUMMARY:CI Course With Jocasta and Ali  - The Willow Studio - 3 Sep 14 19:0
 0
DESCRIPTION:A Series for the Spine\nA collection of contact improvisation 
 classes exploring the spine in detail.\n\nIn this series we will go into a
  deep exploration into the anatomy of our most delightful backbone\,  Inv
 estigating the structure of your spine and how it allows you to arch\, b
 end and twist.\n\nUsing  a variety of techniques such as: body work\, han
 ds on investigations\, somatic movement\, limited scores\, body puzzle and
  movement biased activities. We will further our understanding of Contact 
 improvisation through a deeper understanding of our own anatomy expanding 
 our capacity for movement within the form\n\nOpen to all levels.\n\nThis 
 will be a good foundation for beginners\, as well as providing space for d
 eeper investigation for more experienced movers. Classes can be attended i
 ndividually\, however there will be some progression in the material so it
  is recommended to complete the course ( 8 Weeks )\n\nWeek 1 - An Introduc
 tion to the Spine\n\nIn this class we will try and gain some insight to ou
 r own perception of our spine\, and throughout the class this may change\,
  we will map the different regions of the spinal column and identify some 
 of their differences\n\nContact Alistair on 07805 762998 for further infor
 mation.
ATTACH;FMTTYPE=image/jpeg:https://contactdance.co.uk/wp-content/uploads/20
 14/08/admin-ajax.png
CATEGORIES:CI Class
LOCATION:The Willow Studio\, St. Werburghs Primary School\, James Street\, 
 Bristol\, BS2 9US\, United Kingdom
GEO:51.4704;-2.57417
X-APPLE-STRUCTURED-LOCATION;VALUE=URI;X-ADDRESS=St. Werburghs Primary Schoo
 l\, James Street\, Bristol\, BS2 9US\, United Kingdom;X-APPLE-RADIUS=100;X
 -TITLE=The Willow Studio:geo:51.4704,-2.57417
END:VEVENT
BEGIN:VTIMEZONE
TZID:Europe/London
X-LIC-LOCATION:Europe/London
BEGIN:DAYLIGHT
DTSTART:20140330T020000
TZOFFSETFROM:+0000
TZOFFSETTO:+0100
TZNAME:BST
END:DAYLIGHT
END:VTIMEZONE
END:VCALENDAR