BEGIN:VCALENDAR
VERSION:2.0
PRODID:-//wp-events-plugin.com//7.2.3.1//EN
TZID:Europe/London
X-WR-TIMEZONE:Europe/London
BEGIN:VEVENT
UID:2209@contactdance.co.uk
DTSTART;TZID=Europe/London:20170322T191500
DTEND;TZID=Europe/London:20170322T211500
DTSTAMP:20170310T212855Z
URL:https://contactdance.co.uk/events/skills-for-jamming-contact-improvisa
 tion-wednesdays-2017-03-22/
SUMMARY:Skills For Jamming - Contact Improvisation Wednesdays - The Willow 
 Studio - 22 Mar 17 19:15
DESCRIPTION:\n\n&nbsp\;\n\nDate: Every Wednesday\nTime: 7.15pm - 9.15pm\nVe
 nue: The Willow Studio\, St Werburghs Primary School\nCost: £10 (£8 conc
 ) to drop-in. Move GB members Welcome\n£30 for the 5 week series..\nBooki
 ngs: embodiedpresence@gmail.com\nLed by: Jamus Wood and Lee Bolton\n\nThis
  week's Jamming Focus: Making Connections\nPhysical Skill: Sensing.\n\nThe
  jam\, O so much potential and desire\, sometimes we live this in the danc
 e and sometimes we just miss.\n\nThis series of classes is designed to off
 er ways too jam. Its good for beginner as jams can be crazily complicated 
 from the outside. It good for the veteran who wants to take a thin slice f
 rom the jamming experience open it up and explore. We can all learn in thi
 s melting pot of Skills For Jamming.\n\nEach week we will explore a physic
 al contact improvisation skill and a jamming focus. We will draw from the 
 material developed by Nacy Stark Smith’s in her Underscore Practice.\n\n
 Being Available: So are you open to the dance that is just in front of you
 . Or are you looking for something else\, the perfect partner\, the perfec
 t moment. Can we say yes yes yes\, or do we need to say no a thousand time
 s before our yes arrive. Come play.\n\nIn Space: You are never alone in th
 e dance. You alway have space as a partner and the choreography of the gro
 up to dance with. When we feel we can not enter a dance or have a bumpy ex
 it we often don't see what is available to us. This class will focus on mo
 ving with and partying with space.\n\nSo join us for a dance of contact im
 provisation.\nA weekly two-hour class exploring the Skills of contact impr
 ovisation.\n\nThis five week program is an opportunity to delve into the p
 ractice of contact improvisation. Beginning with exploring the skills used
  in dancing Contact Improvisation.\n\nPracticalities\n\nThese classes are 
 open for those who are just beginning there journey with contact and for m
 ore experienced dancers who wish too deepen their practice finding subtlet
 ies in touch\, direction and presence. It is ideal to attend the whole cou
 rse\, as there will be a progression of learning. However\, drop-in is als
 o welcome.\n\nPlease bring loose comfortable clothing\, with a warm layer 
 to start and end in\, kneepads if you have them\, and water (though there 
 is access to tap water in the adjoining kitchen area).\n\nContact\n\nTo bo
 ok your place or find out more\, email Jamus on embodiedpresence@gmail.com
  or phone 0798582791.\n\nAbout the Teachers\n\nAbout Jamus: I love to danc
 e\, to move\, to be in stillness\, to find rest and support in my body\, t
 oo breath. To drop my weight and connect to the earth.\n\nI have been lear
 ning and exploring dance improvisation for 20 years now. Its been a long j
 ourney and I know that so much can be achieved if we give ourselves the sp
 ace and time to listen and follow our inner conversations.\n\nOur body’s
  are highly intelligent\, we just need to lear too listen and be danced.\n
 \nI have been teaching contact improvisation since 2003 and Somatic Yoga f
 rom 2010. I have a deep love of how the body moves and the genius of how o
 ur bodies are put together. I have done all of this\, despite living with 
 the consequences of a continual disabling eye condition.\n\nAbout Lee: I w
 ork with movement and dance as an enquiry into the present moment. Fascina
 ted by dance as a metaphor for life I have used Contact Improvisation\, so
 matic movement\, non-stylised movement and self enquiry as a vehicle to ex
 plore on the dance floor life\, with freshness moment to moment.\n\nI have
  been dancing for more than 10 years. When I first discovered dance it led
  me to places I had buried\, contorted places I pushed away not wanting to
  feel or face. It has been a long long journey discovering just how far aw
 ay from myself I have lived. Every dance\, every movement session is an in
 vitation to myself to find and meet a little more of myself. To bring more
  of me to taste more of the world. To breath more fully and to move from t
 he inside and meet the world with interest and curiosity. This is my invit
 ation to you.\n\nFor updates about this and other CI events in Bristol go 
 to www.contactdance.co.uk
CATEGORIES:CI Class
LOCATION:The Willow Studio\, St. Werburghs Primary School\, James Street\, 
 Bristol\, BS2 9US\, United Kingdom
GEO:51.4704;-2.57417
X-APPLE-STRUCTURED-LOCATION;VALUE=URI;X-ADDRESS=St. Werburghs Primary Schoo
 l\, James Street\, Bristol\, BS2 9US\, United Kingdom;X-APPLE-RADIUS=100;X
 -TITLE=The Willow Studio:geo:51.4704,-2.57417
END:VEVENT
BEGIN:VTIMEZONE
TZID:Europe/London
X-LIC-LOCATION:Europe/London
BEGIN:STANDARD
DTSTART:20161030T010000
TZOFFSETFROM:+0100
TZOFFSETTO:+0000
TZNAME:GMT
END:STANDARD
END:VTIMEZONE
END:VCALENDAR