BEGIN:VCALENDAR
VERSION:2.0
PRODID:-//wp-events-plugin.com//7.2.3.1//EN
TZID:Europe/London
X-WR-TIMEZONE:Europe/London
BEGIN:VEVENT
UID:1656@contactdance.co.uk
DTSTART;TZID=Europe/London:20141119T070000
DTEND;TZID=Europe/London:20141119T090000
DTSTAMP:20141103T214810Z
URL:https://contactdance.co.uk/events/spirals-of-the-body-organs/
SUMMARY:Spirals of the body - Organs  - The Willow Studio - 19 Nov 14 07:00
DESCRIPTION:In this course I want to look at some of the different spirals 
 we can find in the body. Starting with small details\, body work or somati
 c movement\, circling and expanding out into connections within the body..
  through whole body systems and out into the space.\n\nOpen to all levels\
 , this course would serve as a good grounding in various contact Improvisa
 tion Techniques. Should also provide some development and progression for 
 those with some experience.\n\nThere is no need to come to all the classes
 \, But I will build on themes so there will be an advantage in doing so.\n
 \nI would like to work with 4 specific system in this course: Bones\, Orga
 ns\, Embryology and Fascia. Throughout the course we will be looking at ho
 w we can use these spirals we find in our body to enhance our dance both i
 n and out of contact.\n\nInspiration\n\n"The koru (Māori for "loop") is a
  spiral shape based on the shape of a new unfurling silver fern frond and 
 symbolizing new life\, growth\, strength and peace. It is an integral symb
 ol in Māori art\, carving and tattoos. The circular shape of the koru hel
 ps to convey the idea of perpetual movement while the inner coil suggests 
 a return to the point of origin."\n\nquote form Wikipedia\n\n19th Nov: Wee
 k 2 - Spiralling through the Organs\n\n26th Nov: Week 3 - Embryological Sp
 irals\n\n3rd Dec: Week 4 - Facia and spirals
ATTACH;FMTTYPE=image/jpeg:https://contactdance.co.uk/wp-content/uploads/20
 14/11/koru-large.jpg
CATEGORIES:CI Class
LOCATION:The Willow Studio\, St. Werburghs Primary School\, James Street\, 
 Bristol\, BS2 9US\, United Kingdom
GEO:51.4704;-2.57417
X-APPLE-STRUCTURED-LOCATION;VALUE=URI;X-ADDRESS=St. Werburghs Primary Schoo
 l\, James Street\, Bristol\, BS2 9US\, United Kingdom;X-APPLE-RADIUS=100;X
 -TITLE=The Willow Studio:geo:51.4704,-2.57417
END:VEVENT
BEGIN:VTIMEZONE
TZID:Europe/London
X-LIC-LOCATION:Europe/London
BEGIN:STANDARD
DTSTART:20141026T010000
TZOFFSETFROM:+0100
TZOFFSETTO:+0000
TZNAME:GMT
END:STANDARD
END:VTIMEZONE
END:VCALENDAR