BEGIN:VCALENDAR
VERSION:2.0
PRODID:-//wp-events-plugin.com//7.2.3.1//EN
TZID:Europe/London
X-WR-TIMEZONE:Europe/London
BEGIN:VEVENT
UID:1317@contactdance.co.uk
DTSTART;TZID=Europe/London:20130609T173000
DTEND;TZID=Europe/London:20130609T183000
DTSTAMP:20130607T063533Z
URL:https://contactdance.co.uk/events/sunday-warm-up-class-2-2013-06-09/
SUMMARY:Sunday Warm-Up Class - DMAC\, (4th Floor) Hamilton House - 9 Jun 13
  17:30
DESCRIPTION:Beginner friendly pre-jam warmup class 5.30-6.30pm followed by 
 the jam 6.45-8.30pm. Dancers can come just for the class\, £5\, or stay f
 or the jam\, £8.\n\nFor more information feel free to contact the teacher
 /facilitator or info@contactdance.co.uk. We send out regular emails of cla
 ss descriptions\, to get these\, please sign-up to our mailing list.\nClas
 s Description\nIn this class we will explore tone\, and its effect on our 
 movement\, our partner\, and how we can use it in our dance to be soft\, h
 eavy\, or help create momentum.\n\nNB. Hamilton House are having an open d
 ay\, that afternoon\, which includes some DMAC classes offering tasters to
  the public. This means there is a chance it will be busy in the building.
 \nPlease arrive early so we can start promptly at 5.30pm. DOORS WILL BE CL
 OSED BETWEEN 5.30-6.30PM SO AS NOT TO INTERRUPT THE CLASS
ATTACH;FMTTYPE=image/jpeg:https://contactdance.co.uk/wp-content/uploads/20
 12/01/Ali_n_emilia.jpeg
CATEGORIES:CI Class
LOCATION:DMAC\, (4th Floor) Hamilton House\, 80 Stokes Croft\, Bristol\, BS
 1 3QY\, United Kingdom
GEO:51.4629;-2.58991
X-APPLE-STRUCTURED-LOCATION;VALUE=URI;X-ADDRESS=80 Stokes Croft\, Bristol\,
  BS1 3QY\, United Kingdom;X-APPLE-RADIUS=100;X-TITLE=DMAC\, (4th Floor) Ha
 milton House:geo:51.4629,-2.58991
END:VEVENT
BEGIN:VTIMEZONE
TZID:Europe/London
X-LIC-LOCATION:Europe/London
BEGIN:DAYLIGHT
DTSTART:20130331T020000
TZOFFSETFROM:+0000
TZOFFSETTO:+0100
TZNAME:BST
END:DAYLIGHT
END:VTIMEZONE
END:VCALENDAR