BEGIN:VCALENDAR
VERSION:2.0
PRODID:-//wp-events-plugin.com//7.2.3.1//EN
TZID:Europe/London
X-WR-TIMEZONE:Europe/London
BEGIN:VEVENT
UID:1322@contactdance.co.uk
DTSTART;TZID=Europe/London:20130714T173000
DTEND;TZID=Europe/London:20130714T183000
DTSTAMP:20130708T114410Z
URL:https://contactdance.co.uk/events/sunday-warm-up-class-2-2013-07-14/
SUMMARY:Sunday Warm-Up Class - DMAC\, (4th Floor) Hamilton House - 14 Jul 1
 3 17:30
DESCRIPTION:Beginner friendly pre-jam warmup class 5.30-6.30pm followed by 
 the jam 6.45-8.30pm. Dancers can come just for the class\, £5\, or stay f
 or the jam\, £8.\n\nFor more information feel free to contact the teacher
 /facilitator or info@contactdance.co.uk. We send out regular emails of cla
 ss descriptions\, to get these\, please sign-up to our mailing list.\nClas
 s Description\nMyriad Shades of Touch\nThis class will be about listening 
 with your skin\; speaking through your body\; negotiating boundaries\; dif
 ferentiating qualities of touch\; altering the „map of the body“\; cre
 ating new meanings for touch\, movement\, gesture. To this end\, we will r
 efine our perception of inner space and body rhythms\, as well as our oute
 r sensory/spatial awareness. We will focus on working with the basic princ
 iples of contact improvisation. We’ll also look at ways of combining con
 tact improvisation and bodywork.
ATTACH;FMTTYPE=image/jpeg:https://contactdance.co.uk/wp-content/uploads/20
 12/01/Ali_n_emilia.jpeg
CATEGORIES:CI Class
LOCATION:DMAC\, (4th Floor) Hamilton House\, 80 Stokes Croft\, Bristol\, BS
 1 3QY\, United Kingdom
GEO:51.4629;-2.58991
X-APPLE-STRUCTURED-LOCATION;VALUE=URI;X-ADDRESS=80 Stokes Croft\, Bristol\,
  BS1 3QY\, United Kingdom;X-APPLE-RADIUS=100;X-TITLE=DMAC\, (4th Floor) Ha
 milton House:geo:51.4629,-2.58991
END:VEVENT
BEGIN:VTIMEZONE
TZID:Europe/London
X-LIC-LOCATION:Europe/London
BEGIN:DAYLIGHT
DTSTART:20130331T020000
TZOFFSETFROM:+0000
TZOFFSETTO:+0100
TZNAME:BST
END:DAYLIGHT
END:VTIMEZONE
END:VCALENDAR