BEGIN:VCALENDAR
VERSION:2.0
PRODID:-//wp-events-plugin.com//7.2.3.1//EN
TZID:Europe/London
X-WR-TIMEZONE:Europe/London
BEGIN:VEVENT
UID:1148@contactdance.co.uk
DTSTART;TZID=Europe/London:20130120T173000
DTEND;TZID=Europe/London:20130120T183000
DTSTAMP:20130118T193310Z
URL:https://contactdance.co.uk/events/sunday-warm-up-class-2013-01-20/
SUMMARY:Sunday Warm-Up Class - DMAC\, (4th Floor) Hamilton House - 20 Jan 1
 3 17:30
DESCRIPTION:Beginner friendly pre-jam warmup class 5.30-6.30pm followed by 
 the jam 6.45-8.30pm. Dancers can come just for the class\, £5\, or stay f
 or the jam\, £8.\n\nFor more information feel free to contact the teacher
 /facilitator or info@contactdance.co.uk. We send out regular emails of cla
 ss descriptions\, to get these\, please sign-up to our mailing list.\nClas
 s Description\nThis spring we are introducing our Bristol CI Guidelines\, 
 currently in their first draft and open for feedback from the community. A
 s part of this introduction teachers of the warm-up will be including aspe
 cts of the Guidelines in their class for us to explore together.\n\nThe Wa
 rmup\n\nWorking with our Community Guidelines - Awareness and Witnessing\n
 \nENJOYING THE DANCE IN ITS SIMPLICITY\nWorking with proximity and distanc
 e\, find how rich the dance can become\, from firstly meeting yourself the
 n coming in and out of contact.\nUsing simple scores and 'open-hearted' wi
 tnessing.\nCome with an open mind (and open heart!) and a willingness to m
 eet each other by first meeting yourself. A dance of relationships.
ATTACH;FMTTYPE=image/jpeg:https://contactdance.co.uk/wp-content/uploads/20
 12/12/fundamentals.jpg
CATEGORIES:CI Class
LOCATION:DMAC\, (4th Floor) Hamilton House\, 80 Stokes Croft\, Bristol\, BS
 1 3QY\, United Kingdom
GEO:51.4629;-2.58991
X-APPLE-STRUCTURED-LOCATION;VALUE=URI;X-ADDRESS=80 Stokes Croft\, Bristol\,
  BS1 3QY\, United Kingdom;X-APPLE-RADIUS=100;X-TITLE=DMAC\, (4th Floor) Ha
 milton House:geo:51.4629,-2.58991
END:VEVENT
BEGIN:VTIMEZONE
TZID:Europe/London
X-LIC-LOCATION:Europe/London
BEGIN:STANDARD
DTSTART:20121028T010000
TZOFFSETFROM:+0100
TZOFFSETTO:+0000
TZNAME:GMT
END:STANDARD
END:VTIMEZONE
END:VCALENDAR