BEGIN:VCALENDAR
VERSION:2.0
PRODID:-//wp-events-plugin.com//7.2.3.1//EN
TZID:Europe/London
X-WR-TIMEZONE:Europe/London
BEGIN:VEVENT
UID:1156@contactdance.co.uk
DTSTART;TZID=Europe/London:20130317T173000
DTEND;TZID=Europe/London:20130317T183000
DTSTAMP:20130313T181112Z
URL:https://contactdance.co.uk/events/sunday-warm-up-class-2013-03-17/
SUMMARY:Sunday Warm-Up Class - DMAC\, (4th Floor) Hamilton House - 17 Mar 1
 3 17:30
DESCRIPTION:Beginner friendly pre-jam warmup class 5.30-6.30pm followed by 
 the jam 6.45-8.30pm. Dancers can come just for the class\, £5\, or stay f
 or the jam\, £8.\n\nFor more information feel free to contact the teacher
 /facilitator or info@contactdance.co.uk. We send out regular emails of cla
 ss descriptions\, to get these\, please sign-up to our mailing list.\nClas
 s Description\nWhat would it be/feel/look like if I was to join the dance?
  What would it be/feel/look like if I was to leave the dance?\n\nAre you r
 eady to get grounded and available\, a fully present multi way communicato
 r? Are you ready to focus on the “or more” part of statement describin
 g CI as an improvised form of movement based on real time communication an
 d point of physical contact between two people or more?\n\nIn today’s cl
 ass together we are being guided to explore THE INCLUSIVENESS in Contact I
 mprovisation. Through the popular formats of dance engagements like Tried 
 and Truth\, Round Robin and Grazing (Nancy Stark Smith) we will flow in an
 d out of physical and sensory (fear\, excitement) information we create wi
 th our bodies and we’ll continue exercise to listen to that what is alre
 ady there in the “global dancing village”.\n\nChildren of all ages (0-
 70)\, dancers with physical challenges\, dancers of non-contact improvisat
 ion forms and newcomers are welcome.
ATTACH;FMTTYPE=image/jpeg:https://contactdance.co.uk/wp-content/uploads/20
 12/12/fundamentals.jpg
CATEGORIES:CI Class
LOCATION:DMAC\, (4th Floor) Hamilton House\, 80 Stokes Croft\, Bristol\, BS
 1 3QY\, United Kingdom
GEO:51.4629;-2.58991
X-APPLE-STRUCTURED-LOCATION;VALUE=URI;X-ADDRESS=80 Stokes Croft\, Bristol\,
  BS1 3QY\, United Kingdom;X-APPLE-RADIUS=100;X-TITLE=DMAC\, (4th Floor) Ha
 milton House:geo:51.4629,-2.58991
END:VEVENT
BEGIN:VTIMEZONE
TZID:Europe/London
X-LIC-LOCATION:Europe/London
BEGIN:STANDARD
DTSTART:20121028T010000
TZOFFSETFROM:+0100
TZOFFSETTO:+0000
TZNAME:GMT
END:STANDARD
END:VTIMEZONE
END:VCALENDAR