BEGIN:VCALENDAR
VERSION:2.0
PRODID:-//wp-events-plugin.com//7.2.3.1//EN
TZID:Europe/London
X-WR-TIMEZONE:Europe/London
BEGIN:VEVENT
UID:2739@contactdance.co.uk
DTSTART;TZID=Europe/London:20240406T180000
DTEND;TZID=Europe/London:20240406T210000
DTSTAMP:20240319T152239Z
URL:https://contactdance.co.uk/events/surrender-to-your-inner-sight-an-eve
 ning-of-blindfolded-contact-improvisation/
SUMMARY:Surrender to your inner sight - an evening of Blindfolded Contact I
 mprovisation - 58th Bristol Scout Hut - 6 Apr 24 18:00
DESCRIPTION:\n\nSurrender to your inner sight.\nWe're hosting Gabriel Diamo
 nd from California\, USA for an unforgettable evening of Blindfolded Conta
 ct Dance from 6-9pm on Saturday 6 April in Eastville\, Bristol.\n\nBlindfo
 lded Contact Dance is a slow and gentle experience for both beginners and 
 experienced dancers alike. The constraint of the blindfold invites dancer 
 to explore other senses to find connection\, expression\, pleasure\, and s
 afety. These workshops take participants on a journey of somatic self-disc
 overy and non-verbal consent via solo and group exercises before culminati
 ng in a freeform blindfolded jam. We will open with a short circle address
 ing boundaries and safety.\n\nLearn more about the practise and read the c
 ode of conduct at http://www.blindfoldedcontact.com/\nPart of the core et
 hos of BFC is "the whole room is your partner". That means setting aside y
 our judgments\, preferences\, and biases and dancing with everyone in the 
 space—including by yourself. We have a high expectation of personal resp
 onsibility and respect regarding consent and boundaries. If you have a bli
 ndfold (or something that can be used as one)\, please bring it. Otherwise
  we will have some available.\nIf you have a blindfold (or something that 
 can be used as one)\, please bring it. Otherwise we will have some availab
 le. Please wear clothes suitable for dance and bring a water bottle (water
  is available).\n\nAbout the facilitator: Gabriel is a long-time dancer wh
 o has practiced many modalities of conscious movement. He has developed a 
 passion for exploring how blindfolds can be be used as a medicine and tool
  for transcending biases\, cravings\, and aversions. His work as an artist
  explores the intersection of activism\, street theatre\, shadow work\, an
 d embodiment. He is the co-founder of Vulnerable Rally\, vulnerablerally.
 com. He is a filmmaker by trade with a background in theatre\, outsidefi
 lms.com.\nSuitable for any level of Contact Improvisation experience.\n\nC
 ost - £25 / £20 concession - advance booking essential\n\nThere are a li
 mited number of tickets available for £15\, fror those who cannot afford 
 the concession rate.\n\nBooking: https://buytickets.at/bristolcontactimpr
 ovisation.../1188906\nPlease arrive from 5:30pm for a 6pm start. This is c
 losed container\, late arrivals will not be admitted and will not receive 
 a refund.\n\nVenue - 58th Bristol Scout Group\, Gadshill Rd\, Eastville\, 
 Bristol BS5 6PU (car park opposite the Scouts Hut\, bikes can be locked ag
 ainst railings)
ATTACH;FMTTYPE=image/jpeg:https://contactdance.co.uk/wp-content/uploads/20
 24/03/blindfold.jpg
CATEGORIES:CI Class,CI Jam
LOCATION:58th Bristol Scout Hut\, Gadshill Road\, Bristol\, BS5 6PU\, Unite
 d Kingdom
X-APPLE-STRUCTURED-LOCATION;VALUE=URI;X-ADDRESS=Gadshill Road\, Bristol\, B
 S5 6PU\, United Kingdom;X-APPLE-RADIUS=100;X-TITLE=58th Bristol Scout Hut:
 geo:0,0
END:VEVENT
BEGIN:VTIMEZONE
TZID:Europe/London
X-LIC-LOCATION:Europe/London
BEGIN:DAYLIGHT
DTSTART:20240331T020000
TZOFFSETFROM:+0000
TZOFFSETTO:+0100
TZNAME:BST
END:DAYLIGHT
END:VTIMEZONE
END:VCALENDAR