BEGIN:VCALENDAR
VERSION:2.0
PRODID:-//wp-events-plugin.com//7.2.3.1//EN
TZID:Europe/London
X-WR-TIMEZONE:Europe/London
BEGIN:VEVENT
UID:2198@contactdance.co.uk
DTSTART;TZID=Europe/London:20170408T110000
DTEND;TZID=Europe/London:20170409T170000
DTSTAMP:20170318T175745Z
URL:https://contactdance.co.uk/events/touchdown-dance-weekend-workshop/
SUMMARY:Touchdown Dance Weekend Workshop - Natural Theatre\, Widcombe Insti
 tute - 8 Apr 17 11:00
DESCRIPTION:Touchdown Dance weekend workshop\n\n\n\nTouchdown Dance worksho
 ps are uniquely devised to bring visually Impaired and sighted people toge
 ther in movement and dance.\n\nLOCATION- Natural Theatre\, Widcombe Instit
 ute\, Widcombe Hill\, Bath\, BA2 6AA\nApril 8-9th 2017 from 11- 5p.m. each
  day with a lunch break.\nCost £60 for the weekend or £30 for a day.\n\n
 Touchdown Dance workshops are an experience! Based in yoga\, dance and mov
 ement disciplines you discover a greater awareness of your body\, posture 
 and range of movement potential.\nWe demonstrate and teach exercises\, par
 tnering and group explorations that are fun and intended to deepen your tr
 ust in your ability to move through space\, improved orientation skills an
 d general confidence in physical participatory activity.\n\nWe work with p
 rinciples from somatic movement education - Body-Mind Centering®\, and sp
 ecialist methods developed over many years of research since 1986. Contact
  Improvisation involves working in physical contact with others to sense a
 nd feel our own weight\, energy\, and our ability to move together safely.
  Touchdown dance specialist workshop leaders are visually impaired and sig
 hted.\n\n-Touchdown Dance works in collaboration with Action for Blind\, H
 enshaws Society for the Blind\, SENSE\, and many other organisations\, nat
 ionally and internationally.\n-Guide Dogs welcome and a walking area along
  the canal is a 5 minute walk from the building.\nTO BOOK - please send yo
 ur contact details\, date of birth\, and payment to Touchdown Dance\, Wate
 rside Arts Centre\, Sale\, M33 7ZF\nBACS PAYMENT \; Touchdown Dance\, sort
  code 16 -30-32 10130910\nContact Katy Dymoke and Holly Thomas at info@tou
 chdowndance.co.uk or call\nKaty 07932038730\, or 0161 912 5760.\nwww.touch
 downdance.co.uk
CATEGORIES:CI Workshop
LOCATION:Natural Theatre\, Widcombe Institute\, Widcombe Hill\, Bath\, BA2 
 6AA\, United Kingdom
GEO:51.3761747;-2.352425100000005
X-APPLE-STRUCTURED-LOCATION;VALUE=URI;X-ADDRESS=Widcombe Hill\, Bath\, BA2 
 6AA\, United Kingdom;X-APPLE-RADIUS=100;X-TITLE=Natural Theatre\, Widcombe
  Institute:geo:51.3761747,-2.352425100000005
END:VEVENT
BEGIN:VTIMEZONE
TZID:Europe/London
X-LIC-LOCATION:Europe/London
BEGIN:DAYLIGHT
DTSTART:20170326T020000
TZOFFSETFROM:+0000
TZOFFSETTO:+0100
TZNAME:BST
END:DAYLIGHT
END:VTIMEZONE
END:VCALENDAR