BEGIN:VCALENDAR
VERSION:2.0
PRODID:-//wp-events-plugin.com//7.2.3.1//EN
TZID:Europe/London
X-WR-TIMEZONE:Europe/London
BEGIN:VEVENT
UID:587@contactdance.co.uk
DTSTART;TZID=Europe/London:20120318T173000
DTEND;TZID=Europe/London:20120318T183000
DTSTAMP:20120317T094618Z
URL:https://contactdance.co.uk/events/warmup-class-2012-03-18/
SUMMARY:Sunday Dance Prayer - DMAC\, (4th Floor) Hamilton House - 18 Mar 12
  17:30
DESCRIPTION:Movement led by Jamus Wood\n\n\n Soundscapes by Mosses\n\nIt is
  the time of balance where night and day are equals. When we have climbed 
 out of our mid winter cacoon and are creating and making our life.\n\nSo w
 hy not join Mosses and myself for a movement exploration and inquiry space
 .\n\nlet us together open to a pause in our doings to find stillness and s
 ilences. Find the movements of our inner flow surfacing into expression. A
 llow ourselves to come to ground and to discover the nurture of our simple
  breath and from here coming forward into life and spontaneity.\n\nYou may
  want to bring something to sit on for the sitting meditation.\n\nPlease a
 rrive by 5.30 so we can begin together.\n\nThe Jam\n\nThis evening the jam
  will be a little different. I will offer a score and open the space to da
 nce improvisation rather than purely contact improvisation. Inviting more 
 soloing\, group interactions.\n\nPlease arrive by 7pm.\n\nVenue: DMAC\, 4t
 h Floor\, Hamilton House\, Stokes Croft\, Bristol\nCost:\n£7 class &amp\;
  jam\n£5 class or jam\n\nemail: info@contactdance.co.uk\nFor More Informa
 tion www.contactdance.co.uk\n\n
ATTACH;FMTTYPE=image/jpeg:https://contactdance.co.uk/wp-content/uploads/20
 12/01/CI-36.jpg
CATEGORIES:Other Class
LOCATION:DMAC\, (4th Floor) Hamilton House\, 80 Stokes Croft\, Bristol\, BS
 1 3QY\, United Kingdom
GEO:51.4629;-2.58991
X-APPLE-STRUCTURED-LOCATION;VALUE=URI;X-ADDRESS=80 Stokes Croft\, Bristol\,
  BS1 3QY\, United Kingdom;X-APPLE-RADIUS=100;X-TITLE=DMAC\, (4th Floor) Ha
 milton House:geo:51.4629,-2.58991
END:VEVENT
BEGIN:VTIMEZONE
TZID:Europe/London
X-LIC-LOCATION:Europe/London
BEGIN:STANDARD
DTSTART:20111030T010000
TZOFFSETFROM:+0100
TZOFFSETTO:+0000
TZNAME:GMT
END:STANDARD
END:VTIMEZONE
END:VCALENDAR